OziExplorer Map Data File Version 2.2
e29-17
e29-17.jpg
1 ,Map Code,
Pulkovo 1942 (1),WGS 84, 0.0000, 0.0000,WGS 84
Reserved 1
Reserved 2
Magnetic Variation,,,E
Map Projection,Transverse Mercator,PolyCal,No,AutoCalOnly,No,BSBUseWPX,No
Point01,xy, 320, 458,in, deg, 18, 40.0000,N, 8, 0.0000,W, grid, , , ,N
Point02,xy, 8622, 471,in, deg, 18, 40.0000,N, 7, 0.0000,W, grid, , , ,N
Point03,xy, 8633, 6327,in, deg, 18, 0.0000,N, 7, 0.0000,W, grid, , , ,N
Point04,xy, 306, 6328,in, deg, 18, 0.0000,N, 8, 0.0000,W, grid, , , ,N
Point05,xy, 4469, 3386,in, deg, 18, 20.0000,N, 7, 30.0000,W, grid, , , ,N
Point06,xy, 4474, 486,in, deg, 18, 40.0000,N, 7, 30.0000,W, grid, , , ,N
Point07,xy, 308, 3392,in, deg, 18, 20.0000,N, 8, 0.0000,W, grid, , , ,N
Point08,xy, 8629, 3388,in, deg, 18, 20.0000,N, 7, 0.0000,W, grid, , , ,N
Point09,xy, 4463, 6314,in, deg, 18, 0.0000,N, 7, 30.0000,W, grid, , , ,N
Point10,xy, , ,in, deg, , ,N, , ,W, grid, , , ,N
Point11,xy, , ,in, deg, , ,N, , ,W, grid, , , ,N
Point12,xy, , ,in, deg, , ,N, , ,W, grid, , , ,N
Point13,xy, , ,in, deg, , ,N, , ,W, grid, , , ,N
Point14,xy, , ,in, deg, , ,N, , ,W, grid, , , ,N
Point15,xy, , ,in, deg, , ,N, , ,W, grid, , , ,N
Point16,xy, , ,in, deg, , ,N, , ,W, grid, , , ,N
Point17,xy, , ,in, deg, , ,N, , ,W, grid, , , ,N
Point18,xy, , ,in, deg, , ,N, , ,W, grid, , , ,N
Point19,xy, , ,in, deg, , ,N, , ,W, grid, , , ,N
Point20,xy, , ,in, deg, , ,N, , ,W, grid, , , ,N
Point21,xy, , ,in, deg, , ,N, , ,W, grid, , , ,N
Point22,xy, , ,in, deg, , ,N, , ,W, grid, , , ,N
Point23,xy, , ,in, deg, , ,N, , ,W, grid, , , ,N
Point24,xy, , ,in, deg, , ,N, , ,W, grid, , , ,N
Point25,xy, , ,in, deg, , ,N, , ,W, grid, , , ,N
Point26,xy, , ,in, deg, , ,N, , ,W, grid, , , ,N
Point27,xy, , ,in, deg, , ,N, , ,W, grid, , , ,N
Point28,xy, , ,in, deg, , ,N, , ,W, grid, , , ,N
Point29,xy, , ,in, deg, , ,N, , ,W, grid, , , ,N
Point30,xy, , ,in, deg, , ,N, , ,W, grid, , , ,N
Projection Setup, 0.000000000, -9.000000000, 1.000000000, 59500000.00, 0.00,,,,,
Map Feature = MF ; Map Comment = MC These follow if they exist
Track File = TF These follow if they exist
Moving Map Parameters = MM? These follow if they exist
MM0,Yes
MMPNUM,4
MMPXY,1,319,457
MMPXY,2,8624,470
MMPXY,3,8633,6327
MMPXY,4,305,6329
MMPLL,1, -8.000294, 18.667702
MMPLL,2, -6.999769, 18.666385
MMPLL,3, -7.000044, 17.999219
MMPLL,4, -7.999490, 17.998550
MM1B,12.708531
Other Grid Setup
GRGRID,Yes,4 Km,No,16711680,255,4 Km,0,16777215,8,0,Yes,Yes,No,x
MOP,Map Open Position,0,0
IWH,Map Image Width/Height,9000,7072
