OziExplorer Map Data File Version 2.2
e29-16e
e29-16e.jpg
1 ,Map Code,
Pulkovo 1942 (1),WGS 84, 0.0000, 0.0000,WGS 84
Reserved 1
Reserved 2
Magnetic Variation,,,E
Map Projection,Transverse Mercator,PolyCal,No,AutoCalOnly,No,BSBUseWPX,No
Point01,xy, 188, 271,in, deg, 18, 40.0000,N, 9, 0.0000,W, grid, , , ,N
Point02,xy, 6451, 260,in, deg, 18, 40.0000,N, 8, 0.0000,W, grid, , , ,N
Point03,xy, 6471, 4628,in, deg, 18, 0.0000,N, 8, 0.0000,W, grid, , , ,N
Point04,xy, 183, 4639,in, deg, 18, 0.0000,N, 9, 0.0000,W, grid, , , ,N
Point05,xy, 3325, 2457,in, deg, 18, 20.0000,N, 8, 30.0000,W, grid, , , ,N
Point06,xy, 3322, 268,in, deg, 18, 40.0000,N, 8, 30.0000,W, grid, , , ,N
Point07,xy, 185, 2455,in, deg, 18, 20.0000,N, 9, 0.0000,W, grid, , , ,N
Point08,xy, 6462, 2446,in, deg, 18, 20.0000,N, 8, 0.0000,W, grid, , , ,N
Point09,xy, 3328, 4639,in, deg, 18, 0.0000,N, 8, 30.0000,W, grid, , , ,N
Point10,xy, , ,in, deg, , ,N, , ,W, grid, , , ,N
Point11,xy, , ,in, deg, , ,N, , ,W, grid, , , ,N
Point12,xy, , ,in, deg, , ,N, , ,W, grid, , , ,N
Point13,xy, , ,in, deg, , ,N, , ,W, grid, , , ,N
Point14,xy, , ,in, deg, , ,N, , ,W, grid, , , ,N
Point15,xy, , ,in, deg, , ,N, , ,W, grid, , , ,N
Point16,xy, , ,in, deg, , ,N, , ,W, grid, , , ,N
Point17,xy, , ,in, deg, , ,N, , ,W, grid, , , ,N
Point18,xy, , ,in, deg, , ,N, , ,W, grid, , , ,N
Point19,xy, , ,in, deg, , ,N, , ,W, grid, , , ,N
Point20,xy, , ,in, deg, , ,N, , ,W, grid, , , ,N
Point21,xy, , ,in, deg, , ,N, , ,W, grid, , , ,N
Point22,xy, , ,in, deg, , ,N, , ,W, grid, , , ,N
Point23,xy, , ,in, deg, , ,N, , ,W, grid, , , ,N
Point24,xy, , ,in, deg, , ,N, , ,W, grid, , , ,N
Point25,xy, , ,in, deg, , ,N, , ,W, grid, , , ,N
Point26,xy, , ,in, deg, , ,N, , ,W, grid, , , ,N
Point27,xy, , ,in, deg, , ,N, , ,W, grid, , , ,N
Point28,xy, , ,in, deg, , ,N, , ,W, grid, , , ,N
Point29,xy, , ,in, deg, , ,N, , ,W, grid, , , ,N
Point30,xy, , ,in, deg, , ,N, , ,W, grid, , , ,N
Projection Setup, 0.000000000, -9.000000000, 1.000000000, 59500000.00, 0.00,,,,,
Map Feature = MF ; Map Comment = MC These follow if they exist
Track File = TF These follow if they exist
Moving Map Parameters = MM? These follow if they exist
MM0,Yes
MMPNUM,4
MMPXY,1,187,269
MMPXY,2,6453,258
MMPXY,3,6471,4629
MMPXY,4,182,4641
MMPLL,1, -9.000229, 18.666939
MMPLL,2, -7.999898, 18.666997
MMPLL,3, -8.000064, 18.000076
MMPLL,4, -9.000224, 17.999778
MM1B,16.836689
Other Grid Setup
GRGRID,Yes,4 Km,No,16711680,255,4 Km,0,16777215,8,0,Yes,Yes,No,x
MOP,Map Open Position,0,0
IWH,Map Image Width/Height,6647,4917
