OziExplorer Map Data File Version 2.2
e29-16
e29-16.jpg
1 ,Map Code,
Pulkovo 1942 (1),WGS 84, 0.0000, 0.0000,WGS 84
Reserved 1
Reserved 2
Magnetic Variation,,,E
Map Projection,Transverse Mercator,PolyCal,No,AutoCalOnly,No,BSBUseWPX,No
Point01,xy, 343, 450,in, deg, 18, 40.0000,N, 9, 0.0000,W, grid, , , ,N
Point02,xy, 8640, 337,in, deg, 18, 40.0000,N, 8, 0.0000,W, grid, , , ,N
Point03,xy, 8749, 6201,in, deg, 18, 0.0000,N, 8, 0.0000,W, grid, , , ,N
Point04,xy, 436, 6326,in, deg, 18, 0.0000,N, 9, 0.0000,W, grid, , , ,N
Point05,xy, 4543, 3326,in, deg, 18, 20.0000,N, 8, 30.0000,W, grid, , , ,N
Point06,xy, 4497, 389,in, deg, 18, 40.0000,N, 8, 30.0000,W, grid, , , ,N
Point07,xy, 383, 3388,in, deg, 18, 20.0000,N, 9, 0.0000,W, grid, , , ,N
Point08,xy, 8698, 3258,in, deg, 18, 20.0000,N, 8, 0.0000,W, grid, , , ,N
Point09,xy, 4591, 6248,in, deg, 18, 0.0000,N, 8, 30.0000,W, grid, , , ,N
Point10,xy, , ,in, deg, , ,N, , ,W, grid, , , ,N
Point11,xy, , ,in, deg, , ,N, , ,W, grid, , , ,N
Point12,xy, , ,in, deg, , ,N, , ,W, grid, , , ,N
Point13,xy, , ,in, deg, , ,N, , ,W, grid, , , ,N
Point14,xy, , ,in, deg, , ,N, , ,W, grid, , , ,N
Point15,xy, , ,in, deg, , ,N, , ,W, grid, , , ,N
Point16,xy, , ,in, deg, , ,N, , ,W, grid, , , ,N
Point17,xy, , ,in, deg, , ,N, , ,W, grid, , , ,N
Point18,xy, , ,in, deg, , ,N, , ,W, grid, , , ,N
Point19,xy, , ,in, deg, , ,N, , ,W, grid, , , ,N
Point20,xy, , ,in, deg, , ,N, , ,W, grid, , , ,N
Point21,xy, , ,in, deg, , ,N, , ,W, grid, , , ,N
Point22,xy, , ,in, deg, , ,N, , ,W, grid, , , ,N
Point23,xy, , ,in, deg, , ,N, , ,W, grid, , , ,N
Point24,xy, , ,in, deg, , ,N, , ,W, grid, , , ,N
Point25,xy, , ,in, deg, , ,N, , ,W, grid, , , ,N
Point26,xy, , ,in, deg, , ,N, , ,W, grid, , , ,N
Point27,xy, , ,in, deg, , ,N, , ,W, grid, , , ,N
Point28,xy, , ,in, deg, , ,N, , ,W, grid, , , ,N
Point29,xy, , ,in, deg, , ,N, , ,W, grid, , , ,N
Point30,xy, , ,in, deg, , ,N, , ,W, grid, , , ,N
Projection Setup, 0.000000000, -9.000000000, 1.000000000, 59500000.00, 0.00,,,,,
Map Feature = MF ; Map Comment = MC These follow if they exist
Track File = TF These follow if they exist
Moving Map Parameters = MM? These follow if they exist
MM0,Yes
MMPNUM,4
MMPXY,1,341,447
MMPXY,2,8642,335
MMPXY,3,8751,6201
MMPXY,4,433,6327
MMPLL,1, -9.000681, 18.667137
MMPLL,2, -7.999661, 18.665891
MMPLL,3, -8.000333, 17.999298
MMPLL,4, -8.999590, 17.998891
MM1B,12.715546
Other Grid Setup
GRGRID,Yes,4 Km,No,16711680,255,4 Km,0,16777215,8,0,Yes,Yes,No,x
MOP,Map Open Position,0,0
IWH,Map Image Width/Height,9000,6984
