OziExplorer Map Data File Version 2.2
e28-36
e28-36.jpg
1 ,Map Code,
Pulkovo 1942 (1),WGS 84, 0.0000, 0.0000,WGS 84
Reserved 1
Reserved 2
Magnetic Variation,,,E
Map Projection,Transverse Mercator,PolyCal,No,AutoCalOnly,No,BSBUseWPX,No
Point01,xy, 200, 262,in, deg, 16, 40.0000,N, 13, 0.0000,W, grid, , , ,N
Point02,xy, 6534, 292,in, deg, 16, 40.0000,N, 12, 0.0000,W, grid, , , ,N
Point03,xy, 6524, 4658,in, deg, 16, 0.0000,N, 12, 0.0000,W, grid, , , ,N
Point04,xy, 165, 4628,in, deg, 16, 0.0000,N, 13, 0.0000,W, grid, , , ,N
Point05,xy, 3354, 2452,in, deg, 16, 20.0000,N, 12, 30.0000,W, grid, , , ,N
Point06,xy, 3365, 286,in, deg, 16, 40.0000,N, 12, 30.0000,W, grid, , , ,N
Point07,xy, 185, 2445,in, deg, 16, 20.0000,N, 13, 0.0000,W, grid, , , ,N
Point08,xy, 6527, 2476,in, deg, 16, 20.0000,N, 12, 0.0000,W, grid, , , ,N
Point09,xy, 3345, 4647,in, deg, 16, 0.0000,N, 12, 30.0000,W, grid, , , ,N
Point10,xy, , ,in, deg, , ,N, , ,W, grid, , , ,N
Point11,xy, , ,in, deg, , ,N, , ,W, grid, , , ,N
Point12,xy, , ,in, deg, , ,N, , ,W, grid, , , ,N
Point13,xy, , ,in, deg, , ,N, , ,W, grid, , , ,N
Point14,xy, , ,in, deg, , ,N, , ,W, grid, , , ,N
Point15,xy, , ,in, deg, , ,N, , ,W, grid, , , ,N
Point16,xy, , ,in, deg, , ,N, , ,W, grid, , , ,N
Point17,xy, , ,in, deg, , ,N, , ,W, grid, , , ,N
Point18,xy, , ,in, deg, , ,N, , ,W, grid, , , ,N
Point19,xy, , ,in, deg, , ,N, , ,W, grid, , , ,N
Point20,xy, , ,in, deg, , ,N, , ,W, grid, , , ,N
Point21,xy, , ,in, deg, , ,N, , ,W, grid, , , ,N
Point22,xy, , ,in, deg, , ,N, , ,W, grid, , , ,N
Point23,xy, , ,in, deg, , ,N, , ,W, grid, , , ,N
Point24,xy, , ,in, deg, , ,N, , ,W, grid, , , ,N
Point25,xy, , ,in, deg, , ,N, , ,W, grid, , , ,N
Point26,xy, , ,in, deg, , ,N, , ,W, grid, , , ,N
Point27,xy, , ,in, deg, , ,N, , ,W, grid, , , ,N
Point28,xy, , ,in, deg, , ,N, , ,W, grid, , , ,N
Point29,xy, , ,in, deg, , ,N, , ,W, grid, , , ,N
Point30,xy, , ,in, deg, , ,N, , ,W, grid, , , ,N
Projection Setup, 0.000000000, -15.000000000, 1.000000000, 58500000.00, 0.00,,,,,
Map Feature = MF ; Map Comment = MC These follow if they exist
Track File = TF These follow if they exist
Moving Map Parameters = MM? These follow if they exist
MM0,Yes
MMPNUM,4
MMPXY,1,198,260
MMPXY,2,6535,290
MMPXY,3,6527,4660
MMPXY,4,164,4628
MMPLL,1, -13.000205, 16.667094
MMPLL,2, -11.999761, 16.666903
MMPLL,3, -11.999304, 15.999622
MMPLL,4, -13.000446, 15.999628
MM1B,16.846572
Other Grid Setup
GRGRID,Yes,4 Km,No,16711680,255,4 Km,0,16777215,8,0,Yes,Yes,No,x
MOP,Map Open Position,0,0
IWH,Map Image Width/Height,6700,4961
