OziExplorer Map Data File Version 2.2
d40-31
d40-31.jpg
1 ,Map Code,
Pulkovo 1942 (1),WGS 84, 0.0000, 0.0000,WGS 84
Reserved 1
Reserved 2
Magnetic Variation,,,E
Map Projection,Transverse Mercator,PolyCal,No,AutoCalOnly,No,BSBUseWPX,No
Point01,xy, 180, 298,in, deg, 12, 40.0000,N, 54, 0.0000,E, grid, , , ,N
Point02,xy, 6618, 319,in, deg, 12, 40.0000,N, 55, 0.0000,E, grid, , , ,N
Point03,xy, 6620, 4690,in, deg, 12, 0.0000,N, 55, 0.0000,E, grid, , , ,N
Point04,xy, 169, 4673,in, deg, 12, 0.0000,N, 54, 0.0000,E, grid, , , ,N
Point05,xy, 3395, 2502,in, deg, 12, 20.0000,N, 54, 30.0000,E, grid, , , ,N
Point06,xy, 3398, 307,in, deg, 12, 40.0000,N, 54, 30.0000,E, grid, , , ,N
Point07,xy, 175, 2490,in, deg, 12, 20.0000,N, 54, 0.0000,E, grid, , , ,N
Point08,xy, 6616, 2509,in, deg, 12, 20.0000,N, 55, 0.0000,E, grid, , , ,N
Point09,xy, 3390, 4692,in, deg, 12, 0.0000,N, 54, 30.0000,E, grid, , , ,N
Point10,xy, , ,in, deg, , ,N, , ,W, grid, , , ,N
Point11,xy, , ,in, deg, , ,N, , ,W, grid, , , ,N
Point12,xy, , ,in, deg, , ,N, , ,W, grid, , , ,N
Point13,xy, , ,in, deg, , ,N, , ,W, grid, , , ,N
Point14,xy, , ,in, deg, , ,N, , ,W, grid, , , ,N
Point15,xy, , ,in, deg, , ,N, , ,W, grid, , , ,N
Point16,xy, , ,in, deg, , ,N, , ,W, grid, , , ,N
Point17,xy, , ,in, deg, , ,N, , ,W, grid, , , ,N
Point18,xy, , ,in, deg, , ,N, , ,W, grid, , , ,N
Point19,xy, , ,in, deg, , ,N, , ,W, grid, , , ,N
Point20,xy, , ,in, deg, , ,N, , ,W, grid, , , ,N
Point21,xy, , ,in, deg, , ,N, , ,W, grid, , , ,N
Point22,xy, , ,in, deg, , ,N, , ,W, grid, , , ,N
Point23,xy, , ,in, deg, , ,N, , ,W, grid, , , ,N
Point24,xy, , ,in, deg, , ,N, , ,W, grid, , , ,N
Point25,xy, , ,in, deg, , ,N, , ,W, grid, , , ,N
Point26,xy, , ,in, deg, , ,N, , ,W, grid, , , ,N
Point27,xy, , ,in, deg, , ,N, , ,W, grid, , , ,N
Point28,xy, , ,in, deg, , ,N, , ,W, grid, , , ,N
Point29,xy, , ,in, deg, , ,N, , ,W, grid, , , ,N
Point30,xy, , ,in, deg, , ,N, , ,W, grid, , , ,N
Projection Setup, 0.000000000, 57.000000000, 1.000000000, 10500000.00, 0.00,,,,,
Map Feature = MF ; Map Comment = MC These follow if they exist
Track File = TF These follow if they exist
Moving Map Parameters = MM? These follow if they exist
MM0,Yes
MMPNUM,4
MMPXY,1,179,296
MMPXY,2,6618,318
MMPXY,3,6622,4691
MMPXY,4,167,4675
MMPLL,1, 53.999715, 12.666962
MMPLL,2, 55.000316, 12.666747
MMPLL,3, 55.000550, 12.000458
MMPLL,4, 54.000000, 12.000241
MM1B,16.889199
Other Grid Setup
GRGRID,Yes,4 Km,No,16711680,255,4 Km,0,16777215,8,0,Yes,Yes,No,x
MOP,Map Open Position,0,0
IWH,Map Image Width/Height,6781,5046
