OziExplorer Map Data File Version 2.2
d39-36
d39-36.jpg
1 ,Map Code,
Pulkovo 1942 (1),WGS 84, 0.0000, 0.0000,WGS 84
Reserved 1
Reserved 2
Magnetic Variation,,,E
Map Projection,Transverse Mercator,PolyCal,No,AutoCalOnly,No,BSBUseWPX,No
Point01,xy, 159, 283,in, deg, 12, 40.0000,N, 53, 0.0000,E, grid, , , ,N
Point02,xy, 6593, 321,in, deg, 12, 40.0000,N, 54, 0.0000,E, grid, , , ,N
Point03,xy, 6583, 4696,in, deg, 12, 0.0000,N, 54, 0.0000,E, grid, , , ,N
Point04,xy, 135, 4655,in, deg, 12, 0.0000,N, 53, 0.0000,E, grid, , , ,N
Point05,xy, 3368, 2494,in, deg, 12, 20.0000,N, 53, 30.0000,E, grid, , , ,N
Point06,xy, 3375, 303,in, deg, 12, 40.0000,N, 53, 30.0000,E, grid, , , ,N
Point07,xy, 149, 2471,in, deg, 12, 20.0000,N, 53, 0.0000,E, grid, , , ,N
Point08,xy, 6586, 2510,in, deg, 12, 20.0000,N, 54, 0.0000,E, grid, , , ,N
Point09,xy, 3360, 4684,in, deg, 12, 0.0000,N, 53, 30.0000,E, grid, , , ,N
Point10,xy, , ,in, deg, , ,N, , ,W, grid, , , ,N
Point11,xy, , ,in, deg, , ,N, , ,W, grid, , , ,N
Point12,xy, , ,in, deg, , ,N, , ,W, grid, , , ,N
Point13,xy, , ,in, deg, , ,N, , ,W, grid, , , ,N
Point14,xy, , ,in, deg, , ,N, , ,W, grid, , , ,N
Point15,xy, , ,in, deg, , ,N, , ,W, grid, , , ,N
Point16,xy, , ,in, deg, , ,N, , ,W, grid, , , ,N
Point17,xy, , ,in, deg, , ,N, , ,W, grid, , , ,N
Point18,xy, , ,in, deg, , ,N, , ,W, grid, , , ,N
Point19,xy, , ,in, deg, , ,N, , ,W, grid, , , ,N
Point20,xy, , ,in, deg, , ,N, , ,W, grid, , , ,N
Point21,xy, , ,in, deg, , ,N, , ,W, grid, , , ,N
Point22,xy, , ,in, deg, , ,N, , ,W, grid, , , ,N
Point23,xy, , ,in, deg, , ,N, , ,W, grid, , , ,N
Point24,xy, , ,in, deg, , ,N, , ,W, grid, , , ,N
Point25,xy, , ,in, deg, , ,N, , ,W, grid, , , ,N
Point26,xy, , ,in, deg, , ,N, , ,W, grid, , , ,N
Point27,xy, , ,in, deg, , ,N, , ,W, grid, , , ,N
Point28,xy, , ,in, deg, , ,N, , ,W, grid, , , ,N
Point29,xy, , ,in, deg, , ,N, , ,W, grid, , , ,N
Point30,xy, , ,in, deg, , ,N, , ,W, grid, , , ,N
Projection Setup, 0.000000000, 51.000000000, 1.000000000, 9500000.00, 0.00,,,,,
Map Feature = MF ; Map Comment = MC These follow if they exist
Track File = TF These follow if they exist
Moving Map Parameters = MM? These follow if they exist
MM0,Yes
MMPNUM,4
MMPXY,1,158,282
MMPXY,2,6595,319
MMPXY,3,6583,4698
MMPXY,4,134,4656
MMPLL,1, 52.999674, 12.666801
MMPLL,2, 54.000533, 12.666910
MMPLL,3, 53.999940, 12.000043
MMPLL,4, 52.999749, 12.000196
MM1B,16.897069
Other Grid Setup
GRGRID,Yes,4 Km,No,16711680,255,4 Km,0,16777215,8,0,Yes,Yes,No,x
MOP,Map Open Position,0,0
IWH,Map Image Width/Height,6715,4989
