OziExplorer Map Data File Version 2.2
d37-36
d37-36.jpg
1 ,Map Code,
Pulkovo 1942 (1),WGS 84, 0.0000, 0.0000,WGS 84
Reserved 1
Reserved 2
Magnetic Variation,,,E
Map Projection,Transverse Mercator,PolyCal,No,AutoCalOnly,No,BSBUseWPX,No
Point01,xy, 163, 285,in, deg, 12, 40.0000,N, 41, 0.0000,E, grid, , , ,N
Point02,xy, 6594, 274,in, deg, 12, 40.0000,N, 42, 0.0000,E, grid, , , ,N
Point03,xy, 6615, 4650,in, deg, 12, 0.0000,N, 42, 0.0000,E, grid, , , ,N
Point04,xy, 168, 4654,in, deg, 12, 0.0000,N, 41, 0.0000,E, grid, , , ,N
Point05,xy, 3385, 2469,in, deg, 12, 20.0000,N, 41, 30.0000,E, grid, , , ,N
Point06,xy, 3377, 278,in, deg, 12, 40.0000,N, 41, 30.0000,E, grid, , , ,N
Point07,xy, 169, 2470,in, deg, 12, 20.0000,N, 41, 0.0000,E, grid, , , ,N
Point08,xy, 6600, 2461,in, deg, 12, 20.0000,N, 42, 0.0000,E, grid, , , ,N
Point09,xy, 3389, 4661,in, deg, 12, 0.0000,N, 41, 30.0000,E, grid, , , ,N
Point10,xy, , ,in, deg, , ,N, , ,W, grid, , , ,N
Point11,xy, , ,in, deg, , ,N, , ,W, grid, , , ,N
Point12,xy, , ,in, deg, , ,N, , ,W, grid, , , ,N
Point13,xy, , ,in, deg, , ,N, , ,W, grid, , , ,N
Point14,xy, , ,in, deg, , ,N, , ,W, grid, , , ,N
Point15,xy, , ,in, deg, , ,N, , ,W, grid, , , ,N
Point16,xy, , ,in, deg, , ,N, , ,W, grid, , , ,N
Point17,xy, , ,in, deg, , ,N, , ,W, grid, , , ,N
Point18,xy, , ,in, deg, , ,N, , ,W, grid, , , ,N
Point19,xy, , ,in, deg, , ,N, , ,W, grid, , , ,N
Point20,xy, , ,in, deg, , ,N, , ,W, grid, , , ,N
Point21,xy, , ,in, deg, , ,N, , ,W, grid, , , ,N
Point22,xy, , ,in, deg, , ,N, , ,W, grid, , , ,N
Point23,xy, , ,in, deg, , ,N, , ,W, grid, , , ,N
Point24,xy, , ,in, deg, , ,N, , ,W, grid, , , ,N
Point25,xy, , ,in, deg, , ,N, , ,W, grid, , , ,N
Point26,xy, , ,in, deg, , ,N, , ,W, grid, , , ,N
Point27,xy, , ,in, deg, , ,N, , ,W, grid, , , ,N
Point28,xy, , ,in, deg, , ,N, , ,W, grid, , , ,N
Point29,xy, , ,in, deg, , ,N, , ,W, grid, , , ,N
Point30,xy, , ,in, deg, , ,N, , ,W, grid, , , ,N
Projection Setup, 0.000000000, 39.000000000, 1.000000000, 7500000.00, 0.00,,,,,
Map Feature = MF ; Map Comment = MC These follow if they exist
Track File = TF These follow if they exist
Moving Map Parameters = MM? These follow if they exist
MM0,Yes
MMPNUM,4
MMPXY,1,162,284
MMPXY,2,6595,273
MMPXY,3,6616,4650
MMPXY,4,167,4655
MMPLL,1, 40.999666, 12.666460
MMPLL,2, 42.000422, 12.666674
MMPLL,3, 42.000449, 12.000105
MMPLL,4, 40.999743, 12.000321
MM1B,16.907298
Other Grid Setup
GRGRID,Yes,4 Km,No,16711680,255,4 Km,0,16777215,8,0,Yes,Yes,No,x
MOP,Map Open Position,0,0
IWH,Map Image Width/Height,6793,5001
