OziExplorer Map Data File Version 2.2
d35-20
d35-20.jpg
1 ,Map Code,
Pulkovo 1942 (1),WGS 84, 0.0000, 0.0000,WGS 84
Reserved 1
Reserved 2
Magnetic Variation,,,E
Map Projection,Transverse Mercator,PolyCal,No,AutoCalOnly,No,BSBUseWPX,No
Point01,xy, 185, 61,in, deg, , ,N, , ,E, grid, , 5288000, 1548000,N
Point02,xy, 4809, 32,in, deg, , ,N, , ,E, grid, , 5388000, 1548000,N
Point03,xy, 4827, 3285,in, deg, , ,N, , ,E, grid, , 5388000, 1476000,N
Point04,xy, 27, 3312,in, deg, , ,N, , ,E, grid, , 5284000, 1476000,N
Point05,xy, 2494, 1671,in, deg, 13, 40.0000,N, 25, 30.0000,E, grid, , , ,N
Point06,xy, 2494, 3,in, deg, 14, 0.0000,N, 25, 30.0000,E, grid, , , ,N
Point07,xy, 149, 1675,ex, deg, 13, 40.0000,N, 25, 0.0000,E, grid, , , ,N
Point08,xy, 4850, 1675,ex, deg, 13, 40.0000,N, 26, 0.0000,E, grid, , , ,N
Point09,xy, 2494, 3336,in, deg, 13, 20.0000,N, 25, 30.0000,E, grid, , , ,N
Point10,xy, , ,in, deg, , ,N, , ,W, grid, , , ,N
Point11,xy, , ,in, deg, , ,N, , ,W, grid, , , ,N
Point12,xy, , ,in, deg, , ,N, , ,W, grid, , , ,N
Point13,xy, , ,in, deg, , ,N, , ,W, grid, , , ,N
Point14,xy, , ,in, deg, , ,N, , ,W, grid, , , ,N
Point15,xy, , ,in, deg, , ,N, , ,W, grid, , , ,N
Point16,xy, , ,in, deg, , ,N, , ,W, grid, , , ,N
Point17,xy, , ,in, deg, , ,N, , ,W, grid, , , ,N
Point18,xy, , ,in, deg, , ,N, , ,W, grid, , , ,N
Point19,xy, , ,in, deg, , ,N, , ,W, grid, , , ,N
Point20,xy, , ,in, deg, , ,N, , ,W, grid, , , ,N
Point21,xy, , ,in, deg, , ,N, , ,W, grid, , , ,N
Point22,xy, , ,in, deg, , ,N, , ,W, grid, , , ,N
Point23,xy, , ,in, deg, , ,N, , ,W, grid, , , ,N
Point24,xy, , ,in, deg, , ,N, , ,W, grid, , , ,N
Point25,xy, , ,in, deg, , ,N, , ,W, grid, , , ,N
Point26,xy, , ,in, deg, , ,N, , ,W, grid, , , ,N
Point27,xy, , ,in, deg, , ,N, , ,W, grid, , , ,N
Point28,xy, , ,in, deg, , ,N, , ,W, grid, , , ,N
Point29,xy, , ,in, deg, , ,N, , ,W, grid, , , ,N
Point30,xy, , ,in, deg, , ,N, , ,W, grid, , , ,N
Projection Setup, 0.000000000, 27.000000000, 1.000000000, 5500000.00, 0.00,,,,,
Map Feature = MF ; Map Comment = MC These follow if they exist
Track File = TF These follow if they exist
Moving Map Parameters = MM? These follow if they exist
MM0,Yes
MMPNUM,4
MMPXY,1,0,6
MMPXY,2,4992,4
MMPXY,3,4994,3336
MMPXY,4,0,3339
MMPLL,1, 25.000579, 13.999208
MMPLL,2, 26.000475, 13.999858
MMPLL,3, 25.999225, 13.333144
MMPLL,4, 25.001738, 13.332582
MM1B,21.637799
Other Grid Setup
GRGRID,Yes,4 Km,No,16711680,255,4 Km,0,16777215,8,0,Yes,Yes,No,x
MOP,Map Open Position,0,0
IWH,Map Image Width/Height,5000,3350
