OziExplorer Map Data File Version 2.2
d31-36
d31-36.jpg
1 ,Map Code,
Pulkovo 1942 (1),WGS 84, 0.0000, 0.0000,WGS 84
Reserved 1
Reserved 2
Magnetic Variation,,,E
Map Projection,Transverse Mercator,PolyCal,No,AutoCalOnly,No,BSBUseWPX,No
Point01,xy, 144, 312,in, deg, 12, 40.0000,N, 5, 0.0000,E, grid, , , ,N
Point02,xy, 6577, 351,in, deg, 12, 40.0000,N, 6, 0.0000,E, grid, , , ,N
Point03,xy, 6560, 4732,in, deg, 12, 0.0000,N, 6, 0.0000,E, grid, , , ,N
Point04,xy, 112, 4689,in, deg, 12, 0.0000,N, 5, 0.0000,E, grid, , , ,N
Point05,xy, 3348, 2526,in, deg, 12, 20.0000,N, 5, 30.0000,E, grid, , , ,N
Point06,xy, 3359, 329,in, deg, 12, 40.0000,N, 5, 30.0000,E, grid, , , ,N
Point07,xy, 127, 2501,in, deg, 12, 20.0000,N, 5, 0.0000,E, grid, , , ,N
Point08,xy, 6570, 2543,in, deg, 12, 20.0000,N, 6, 0.0000,E, grid, , , ,N
Point09,xy, 3337, 4721,in, deg, 12, 0.0000,N, 5, 30.0000,E, grid, , , ,N
Point10,xy, , ,in, deg, , ,N, , ,W, grid, , , ,N
Point11,xy, , ,in, deg, , ,N, , ,W, grid, , , ,N
Point12,xy, , ,in, deg, , ,N, , ,W, grid, , , ,N
Point13,xy, , ,in, deg, , ,N, , ,W, grid, , , ,N
Point14,xy, , ,in, deg, , ,N, , ,W, grid, , , ,N
Point15,xy, , ,in, deg, , ,N, , ,W, grid, , , ,N
Point16,xy, , ,in, deg, , ,N, , ,W, grid, , , ,N
Point17,xy, , ,in, deg, , ,N, , ,W, grid, , , ,N
Point18,xy, , ,in, deg, , ,N, , ,W, grid, , , ,N
Point19,xy, , ,in, deg, , ,N, , ,W, grid, , , ,N
Point20,xy, , ,in, deg, , ,N, , ,W, grid, , , ,N
Point21,xy, , ,in, deg, , ,N, , ,W, grid, , , ,N
Point22,xy, , ,in, deg, , ,N, , ,W, grid, , , ,N
Point23,xy, , ,in, deg, , ,N, , ,W, grid, , , ,N
Point24,xy, , ,in, deg, , ,N, , ,W, grid, , , ,N
Point25,xy, , ,in, deg, , ,N, , ,W, grid, , , ,N
Point26,xy, , ,in, deg, , ,N, , ,W, grid, , , ,N
Point27,xy, , ,in, deg, , ,N, , ,W, grid, , , ,N
Point28,xy, , ,in, deg, , ,N, , ,W, grid, , , ,N
Point29,xy, , ,in, deg, , ,N, , ,W, grid, , , ,N
Point30,xy, , ,in, deg, , ,N, , ,W, grid, , , ,N
Projection Setup, 0.000000000, 3.000000000, 1.000000000, 1500000.00, 0.00,,,,,
Map Feature = MF ; Map Comment = MC These follow if they exist
Track File = TF These follow if they exist
Moving Map Parameters = MM? These follow if they exist
MM0,Yes
MMPNUM,4
MMPXY,1,142,311
MMPXY,2,6578,350
MMPXY,3,6560,4734
MMPXY,4,111,4690
MMPLL,1, 4.999753, 12.666531
MMPLL,2, 6.000196, 12.666637
MMPLL,3, 5.999810, 12.000127
MMPLL,4, 4.999877, 12.000281
MM1B,16.892448
Other Grid Setup
GRGRID,Yes,4 Km,No,16711680,255,4 Km,0,16777215,8,0,Yes,Yes,No,x
MOP,Map Open Position,0,0
IWH,Map Image Width/Height,6760,4998
