OziExplorer Map Data File Version 2.2
d30-36
d30-36.jpg
1 ,Map Code,
Pulkovo 1942 (1),WGS 84, 0.0000, 0.0000,WGS 84
Reserved 1
Reserved 2
Magnetic Variation,,,E
Map Projection,Transverse Mercator,PolyCal,No,AutoCalOnly,No,BSBUseWPX,No
Point01,xy, 175, 293,in, deg, 12, 40.0000,N, 1, 0.0000,W, grid, , , ,N
Point02,xy, 6604, 321,in, deg, 12, 40.0000,N, 0, 0.0000,E, grid, , , ,N
Point03,xy, 6597, 4687,in, deg, 12, 0.0000,N, 0, 0.0000,E, grid, , , ,N
Point04,xy, 155, 4654,in, deg, 12, 0.0000,N, 1, 0.0000,W, grid, , , ,N
Point05,xy, 3384, 2491,in, deg, 12, 20.0000,N, 0, 30.0000,W, grid, , , ,N
Point06,xy, 3386, 305,in, deg, 12, 40.0000,N, 0, 30.0000,W, grid, , , ,N
Point07,xy, 166, 2473,in, deg, 12, 20.0000,N, 1, 0.0000,W, grid, , , ,N
Point08,xy, 6599, 2504,in, deg, 12, 20.0000,N, 0, 0.0000,E, grid, , , ,N
Point09,xy, 3379, 4677,in, deg, 12, 0.0000,N, 0, 30.0000,W, grid, , , ,N
Point10,xy, , ,in, deg, , ,N, , ,W, grid, , , ,N
Point11,xy, , ,in, deg, , ,N, , ,W, grid, , , ,N
Point12,xy, , ,in, deg, , ,N, , ,W, grid, , , ,N
Point13,xy, , ,in, deg, , ,N, , ,W, grid, , , ,N
Point14,xy, , ,in, deg, , ,N, , ,W, grid, , , ,N
Point15,xy, , ,in, deg, , ,N, , ,W, grid, , , ,N
Point16,xy, , ,in, deg, , ,N, , ,W, grid, , , ,N
Point17,xy, , ,in, deg, , ,N, , ,W, grid, , , ,N
Point18,xy, , ,in, deg, , ,N, , ,W, grid, , , ,N
Point19,xy, , ,in, deg, , ,N, , ,W, grid, , , ,N
Point20,xy, , ,in, deg, , ,N, , ,W, grid, , , ,N
Point21,xy, , ,in, deg, , ,N, , ,W, grid, , , ,N
Point22,xy, , ,in, deg, , ,N, , ,W, grid, , , ,N
Point23,xy, , ,in, deg, , ,N, , ,W, grid, , , ,N
Point24,xy, , ,in, deg, , ,N, , ,W, grid, , , ,N
Point25,xy, , ,in, deg, , ,N, , ,W, grid, , , ,N
Point26,xy, , ,in, deg, , ,N, , ,W, grid, , , ,N
Point27,xy, , ,in, deg, , ,N, , ,W, grid, , , ,N
Point28,xy, , ,in, deg, , ,N, , ,W, grid, , , ,N
Point29,xy, , ,in, deg, , ,N, , ,W, grid, , , ,N
Point30,xy, , ,in, deg, , ,N, , ,W, grid, , , ,N
Projection Setup, 0.000000000, -3.000000000, 1.000000000, 60500000.00, 0.00,,,,,
Map Feature = MF ; Map Comment = MC These follow if they exist
Track File = TF These follow if they exist
Moving Map Parameters = MM? These follow if they exist
MM0,Yes
MMPNUM,4
MMPXY,1,174,290
MMPXY,2,6606,320
MMPXY,3,6598,4688
MMPXY,4,155,4656
MMPLL,1, -1.000204, 12.666776
MMPLL,2, 0.000654, 12.666632
MMPLL,3, -0.000094, 11.999966
MMPLL,4, -1.000129, 11.999919
MM1B,16.910586
Other Grid Setup
GRGRID,Yes,4 Km,No,16711680,255,4 Km,0,16777215,8,0,Yes,Yes,No,x
MOP,Map Open Position,0,0
IWH,Map Image Width/Height,6787,4958
