OziExplorer Map Data File Version 2.2
d30-26e
d30-26e.jpg
1 ,Map Code,
Pulkovo 1942 (1),WGS 84, 0.0000, 0.0000,WGS 84
Reserved 1
Reserved 2
Magnetic Variation,,,E
Map Projection,Transverse Mercator,PolyCal,No,AutoCalOnly,No,BSBUseWPX,No
Point01,xy, 176, 330,in, deg, 13, 20.0000,N, 5, 0.0000,W, grid, , , ,N
Point02,xy, 6587, 376,in, deg, 13, 20.0000,N, 4, 0.0000,W, grid, , , ,N
Point03,xy, 6573, 4738,in, deg, 12, 40.0000,N, 4, 0.0000,W, grid, , , ,N
Point04,xy, 145, 4694,in, deg, 12, 40.0000,N, 5, 0.0000,W, grid, , , ,N
Point05,xy, 3371, 2535,in, deg, 13, 0.0000,N, 4, 30.0000,W, grid, , , ,N
Point06,xy, 3379, 352,in, deg, 13, 20.0000,N, 4, 30.0000,W, grid, , , ,N
Point07,xy, 162, 2511,in, deg, 13, 0.0000,N, 5, 0.0000,W, grid, , , ,N
Point08,xy, 6578, 2558,in, deg, 13, 0.0000,N, 4, 0.0000,W, grid, , , ,N
Point09,xy, 3358, 4723,in, deg, 12, 40.0000,N, 4, 30.0000,W, grid, , , ,N
Point10,xy, , ,in, deg, , ,N, , ,W, grid, , , ,N
Point11,xy, , ,in, deg, , ,N, , ,W, grid, , , ,N
Point12,xy, , ,in, deg, , ,N, , ,W, grid, , , ,N
Point13,xy, , ,in, deg, , ,N, , ,W, grid, , , ,N
Point14,xy, , ,in, deg, , ,N, , ,W, grid, , , ,N
Point15,xy, , ,in, deg, , ,N, , ,W, grid, , , ,N
Point16,xy, , ,in, deg, , ,N, , ,W, grid, , , ,N
Point17,xy, , ,in, deg, , ,N, , ,W, grid, , , ,N
Point18,xy, , ,in, deg, , ,N, , ,W, grid, , , ,N
Point19,xy, , ,in, deg, , ,N, , ,W, grid, , , ,N
Point20,xy, , ,in, deg, , ,N, , ,W, grid, , , ,N
Point21,xy, , ,in, deg, , ,N, , ,W, grid, , , ,N
Point22,xy, , ,in, deg, , ,N, , ,W, grid, , , ,N
Point23,xy, , ,in, deg, , ,N, , ,W, grid, , , ,N
Point24,xy, , ,in, deg, , ,N, , ,W, grid, , , ,N
Point25,xy, , ,in, deg, , ,N, , ,W, grid, , , ,N
Point26,xy, , ,in, deg, , ,N, , ,W, grid, , , ,N
Point27,xy, , ,in, deg, , ,N, , ,W, grid, , , ,N
Point28,xy, , ,in, deg, , ,N, , ,W, grid, , , ,N
Point29,xy, , ,in, deg, , ,N, , ,W, grid, , , ,N
Point30,xy, , ,in, deg, , ,N, , ,W, grid, , , ,N
Projection Setup, 0.000000000, -3.000000000, 1.000000000, 60500000.00, 0.00,,,,,
Map Feature = MF ; Map Comment = MC These follow if they exist
Track File = TF These follow if they exist
Moving Map Parameters = MM? These follow if they exist
MM0,Yes
MMPNUM,4
MMPXY,1,174,329
MMPXY,2,6589,373
MMPXY,3,6573,4740
MMPXY,4,143,4695
MMPLL,1, -5.000307, 13.333182
MMPLL,2, -3.999485, 13.333578
MMPLL,3, -3.999886, 12.666577
MMPLL,4, -5.000372, 12.666607
MM1B,16.901197
Other Grid Setup
GRGRID,Yes,4 Km,No,16711680,255,4 Km,0,16777215,8,0,Yes,Yes,No,x
MOP,Map Open Position,0,0
IWH,Map Image Width/Height,6795,5076
