OziExplorer Map Data File Version 2.2
d29-36
d29-36.jpg
1 ,Map Code,
Pulkovo 1942 (1),WGS 84, 0.0000, 0.0000,WGS 84
Reserved 1
Reserved 2
Magnetic Variation,,,E
Map Projection,Transverse Mercator,PolyCal,No,AutoCalOnly,No,BSBUseWPX,No
Point01,xy, 213, 274,in, deg, 12, 40.0000,N, 7, 0.0000,W, grid, , , ,N
Point02,xy, 6643, 295,in, deg, 12, 40.0000,N, 6, 0.0000,W, grid, , , ,N
Point03,xy, 6646, 4667,in, deg, 12, 0.0000,N, 6, 0.0000,W, grid, , , ,N
Point04,xy, 199, 4644,in, deg, 12, 0.0000,N, 7, 0.0000,W, grid, , , ,N
Point05,xy, 3423, 2474,in, deg, 12, 20.0000,N, 6, 30.0000,W, grid, , , ,N
Point06,xy, 3422, 286,in, deg, 12, 40.0000,N, 6, 30.0000,W, grid, , , ,N
Point07,xy, 207, 2458,in, deg, 12, 20.0000,N, 7, 0.0000,W, grid, , , ,N
Point08,xy, 6642, 2482,in, deg, 12, 20.0000,N, 6, 0.0000,W, grid, , , ,N
Point09,xy, 3422, 4664,in, deg, 12, 0.0000,N, 6, 30.0000,W, grid, , , ,N
Point10,xy, , ,in, deg, , ,N, , ,W, grid, , , ,N
Point11,xy, , ,in, deg, , ,N, , ,W, grid, , , ,N
Point12,xy, , ,in, deg, , ,N, , ,W, grid, , , ,N
Point13,xy, , ,in, deg, , ,N, , ,W, grid, , , ,N
Point14,xy, , ,in, deg, , ,N, , ,W, grid, , , ,N
Point15,xy, , ,in, deg, , ,N, , ,W, grid, , , ,N
Point16,xy, , ,in, deg, , ,N, , ,W, grid, , , ,N
Point17,xy, , ,in, deg, , ,N, , ,W, grid, , , ,N
Point18,xy, , ,in, deg, , ,N, , ,W, grid, , , ,N
Point19,xy, , ,in, deg, , ,N, , ,W, grid, , , ,N
Point20,xy, , ,in, deg, , ,N, , ,W, grid, , , ,N
Point21,xy, , ,in, deg, , ,N, , ,W, grid, , , ,N
Point22,xy, , ,in, deg, , ,N, , ,W, grid, , , ,N
Point23,xy, , ,in, deg, , ,N, , ,W, grid, , , ,N
Point24,xy, , ,in, deg, , ,N, , ,W, grid, , , ,N
Point25,xy, , ,in, deg, , ,N, , ,W, grid, , , ,N
Point26,xy, , ,in, deg, , ,N, , ,W, grid, , , ,N
Point27,xy, , ,in, deg, , ,N, , ,W, grid, , , ,N
Point28,xy, , ,in, deg, , ,N, , ,W, grid, , , ,N
Point29,xy, , ,in, deg, , ,N, , ,W, grid, , , ,N
Point30,xy, , ,in, deg, , ,N, , ,W, grid, , , ,N
Projection Setup, 0.000000000, -9.000000000, 1.000000000, 59500000.00, 0.00,,,,,
Map Feature = MF ; Map Comment = MC These follow if they exist
Track File = TF These follow if they exist
Moving Map Parameters = MM? These follow if they exist
MM0,Yes
MMPNUM,4
MMPXY,1,212,273
MMPXY,2,6645,293
MMPXY,3,6647,4667
MMPXY,4,198,4646
MMPLL,1, -6.999919, 12.666718
MMPLL,2, -5.999319, 12.666876
MMPLL,3, -5.999706, 12.000364
MMPLL,4, -7.000257, 11.999860
MM1B,16.903932
Other Grid Setup
GRGRID,Yes,4 Km,No,16711680,255,4 Km,0,16777215,8,0,Yes,Yes,No,x
MOP,Map Open Position,0,0
IWH,Map Image Width/Height,6813,4923
