OziExplorer Map Data File Version 2.2
d29-25
d29-25.jpg
1 ,Map Code,
Pulkovo 1942 (1),WGS 84, 0.0000, 0.0000,WGS 84
Reserved 1
Reserved 2
Magnetic Variation,,,E
Map Projection,Transverse Mercator,PolyCal,No,AutoCalOnly,No,BSBUseWPX,No
Point01,xy, 165, 206,in, deg, 13, 20.0000,N, 12, 0.0000,W, grid, , , ,N
Point02,xy, 4422, 205,in, deg, 13, 20.0000,N, 11, 0.0000,W, grid, , , ,N
Point03,xy, 4429, 3112,in, deg, 12, 40.0000,N, 11, 0.0000,W, grid, , , ,N
Point04,xy, 163, 3117,in, deg, 12, 40.0000,N, 12, 0.0000,W, grid, , , ,N
Point05,xy, 2295, 1660,in, deg, 13, 0.0000,N, 11, 30.0000,W, grid, , , ,N
Point06,xy, 2293, 208,in, deg, 13, 20.0000,N, 11, 30.0000,W, grid, , , ,N
Point07,xy, 164, 1662,in, deg, 13, 0.0000,N, 12, 0.0000,W, grid, , , ,N
Point08,xy, 4426, 1658,in, deg, 13, 0.0000,N, 11, 0.0000,W, grid, , , ,N
Point09,xy, 2295, 3116,in, deg, 12, 40.0000,N, 11, 30.0000,W, grid, , , ,N
Point10,xy, , ,in, deg, , ,N, , ,W, grid, , , ,N
Point11,xy, , ,in, deg, , ,N, , ,W, grid, , , ,N
Point12,xy, , ,in, deg, , ,N, , ,W, grid, , , ,N
Point13,xy, , ,in, deg, , ,N, , ,W, grid, , , ,N
Point14,xy, , ,in, deg, , ,N, , ,W, grid, , , ,N
Point15,xy, , ,in, deg, , ,N, , ,W, grid, , , ,N
Point16,xy, , ,in, deg, , ,N, , ,W, grid, , , ,N
Point17,xy, , ,in, deg, , ,N, , ,W, grid, , , ,N
Point18,xy, , ,in, deg, , ,N, , ,W, grid, , , ,N
Point19,xy, , ,in, deg, , ,N, , ,W, grid, , , ,N
Point20,xy, , ,in, deg, , ,N, , ,W, grid, , , ,N
Point21,xy, , ,in, deg, , ,N, , ,W, grid, , , ,N
Point22,xy, , ,in, deg, , ,N, , ,W, grid, , , ,N
Point23,xy, , ,in, deg, , ,N, , ,W, grid, , , ,N
Point24,xy, , ,in, deg, , ,N, , ,W, grid, , , ,N
Point25,xy, , ,in, deg, , ,N, , ,W, grid, , , ,N
Point26,xy, , ,in, deg, , ,N, , ,W, grid, , , ,N
Point27,xy, , ,in, deg, , ,N, , ,W, grid, , , ,N
Point28,xy, , ,in, deg, , ,N, , ,W, grid, , , ,N
Point29,xy, , ,in, deg, , ,N, , ,W, grid, , , ,N
Point30,xy, , ,in, deg, , ,N, , ,W, grid, , , ,N
Projection Setup, 0.000000000, -9.000000000, 1.000000000, 59500000.00, 0.00,,,,,
Map Feature = MF ; Map Comment = MC These follow if they exist
Track File = TF These follow if they exist
Moving Map Parameters = MM? These follow if they exist
MM0,Yes
MMPNUM,4
MMPXY,1,164,204
MMPXY,2,4423,204
MMPXY,3,4430,3113
MMPXY,4,162,3118
MMPLL,1, -12.000344, 13.333911
MMPLL,2, -10.999624, 13.333390
MMPLL,3, -10.999868, 12.666411
MMPLL,4, -12.000021, 12.666274
MM1B,25.467930
Other Grid Setup
GRGRID,Yes,4 Km,No,16711680,255,4 Km,0,16777215,8,0,Yes,Yes,No,x
MOP,Map Open Position,0,0
IWH,Map Image Width/Height,4603,3397
