OziExplorer Map Data File Version 2.2
d29-19e
d29-19e.jpg
1 ,Map Code,
Pulkovo 1942 (1),WGS 84, 0.0000, 0.0000,WGS 84
Reserved 1
Reserved 2
Magnetic Variation,,,E
Map Projection,Transverse Mercator,PolyCal,No,AutoCalOnly,No,BSBUseWPX,No
Point01,xy, 185, 216,in, deg, 14, 0.0000,N, 12, 0.0000,W, grid, , , ,N
Point02,xy, 6578, 253,in, deg, 14, 0.0000,N, 11, 0.0000,W, grid, , , ,N
Point03,xy, 6572, 4619,in, deg, 13, 20.0000,N, 11, 0.0000,W, grid, , , ,N
Point04,xy, 159, 4587,in, deg, 13, 20.0000,N, 12, 0.0000,W, grid, , , ,N
Point05,xy, 3373, 2420,in, deg, 13, 40.0000,N, 11, 30.0000,W, grid, , , ,N
Point06,xy, 3381, 235,in, deg, 14, 0.0000,N, 11, 30.0000,W, grid, , , ,N
Point07,xy, 174, 2401,in, deg, 13, 40.0000,N, 12, 0.0000,W, grid, , , ,N
Point08,xy, 6572, 2437,in, deg, 13, 40.0000,N, 11, 0.0000,W, grid, , , ,N
Point09,xy, 3365, 4609,in, deg, 13, 20.0000,N, 11, 30.0000,W, grid, , , ,N
Point10,xy, , ,in, deg, , ,N, , ,W, grid, , , ,N
Point11,xy, , ,in, deg, , ,N, , ,W, grid, , , ,N
Point12,xy, , ,in, deg, , ,N, , ,W, grid, , , ,N
Point13,xy, , ,in, deg, , ,N, , ,W, grid, , , ,N
Point14,xy, , ,in, deg, , ,N, , ,W, grid, , , ,N
Point15,xy, , ,in, deg, , ,N, , ,W, grid, , , ,N
Point16,xy, , ,in, deg, , ,N, , ,W, grid, , , ,N
Point17,xy, , ,in, deg, , ,N, , ,W, grid, , , ,N
Point18,xy, , ,in, deg, , ,N, , ,W, grid, , , ,N
Point19,xy, , ,in, deg, , ,N, , ,W, grid, , , ,N
Point20,xy, , ,in, deg, , ,N, , ,W, grid, , , ,N
Point21,xy, , ,in, deg, , ,N, , ,W, grid, , , ,N
Point22,xy, , ,in, deg, , ,N, , ,W, grid, , , ,N
Point23,xy, , ,in, deg, , ,N, , ,W, grid, , , ,N
Point24,xy, , ,in, deg, , ,N, , ,W, grid, , , ,N
Point25,xy, , ,in, deg, , ,N, , ,W, grid, , , ,N
Point26,xy, , ,in, deg, , ,N, , ,W, grid, , , ,N
Point27,xy, , ,in, deg, , ,N, , ,W, grid, , , ,N
Point28,xy, , ,in, deg, , ,N, , ,W, grid, , , ,N
Point29,xy, , ,in, deg, , ,N, , ,W, grid, , , ,N
Point30,xy, , ,in, deg, , ,N, , ,W, grid, , , ,N
Projection Setup, 0.000000000, -9.000000000, 1.000000000, 59500000.00, 0.00,,,,,
Map Feature = MF ; Map Comment = MC These follow if they exist
Track File = TF These follow if they exist
Moving Map Parameters = MM? These follow if they exist
MM0,Yes
MMPNUM,4
MMPXY,1,183,215
MMPXY,2,6579,252
MMPXY,3,6573,4620
MMPXY,4,157,4587
MMPLL,1, -12.000311, 14.000012
MMPLL,2, -10.999728, 13.999944
MMPLL,3, -10.999576, 13.333408
MMPLL,4, -12.000462, 13.333332
MM1B,16.909369
Other Grid Setup
GRGRID,Yes,4 Km,No,16711680,255,4 Km,0,16777215,8,0,Yes,Yes,No,x
MOP,Map Open Position,0,0
IWH,Map Image Width/Height,6776,4917
