OziExplorer Map Data File Version 2.2
d28-36
d28-36.jpg
1 ,Map Code,
Pulkovo 1942 (1),WGS 84, 0.0000, 0.0000,WGS 84
Reserved 1
Reserved 2
Magnetic Variation,,,E
Map Projection,Transverse Mercator,PolyCal,No,AutoCalOnly,No,BSBUseWPX,No
Point01,xy, 133, 335,in, deg, 12, 40.0000,N, 13, 0.0000,W, grid, , , ,N
Point02,xy, 6568, 345,in, deg, 12, 40.0000,N, 12, 0.0000,W, grid, , , ,N
Point03,xy, 6573, 4716,in, deg, 12, 0.0000,N, 12, 0.0000,W, grid, , , ,N
Point04,xy, 122, 4699,in, deg, 12, 0.0000,N, 13, 0.0000,W, grid, , , ,N
Point05,xy, 3350, 2529,in, deg, 12, 20.0000,N, 12, 30.0000,W, grid, , , ,N
Point06,xy, 3347, 342,in, deg, 12, 40.0000,N, 12, 30.0000,W, grid, , , ,N
Point07,xy, 131, 2516,in, deg, 12, 20.0000,N, 13, 0.0000,W, grid, , , ,N
Point08,xy, 6568, 2531,in, deg, 12, 20.0000,N, 12, 0.0000,W, grid, , , ,N
Point09,xy, 3349, 4717,in, deg, 12, 0.0000,N, 12, 30.0000,W, grid, , , ,N
Point10,xy, , ,in, deg, , ,N, , ,W, grid, , , ,N
Point11,xy, , ,in, deg, , ,N, , ,W, grid, , , ,N
Point12,xy, , ,in, deg, , ,N, , ,W, grid, , , ,N
Point13,xy, , ,in, deg, , ,N, , ,W, grid, , , ,N
Point14,xy, , ,in, deg, , ,N, , ,W, grid, , , ,N
Point15,xy, , ,in, deg, , ,N, , ,W, grid, , , ,N
Point16,xy, , ,in, deg, , ,N, , ,W, grid, , , ,N
Point17,xy, , ,in, deg, , ,N, , ,W, grid, , , ,N
Point18,xy, , ,in, deg, , ,N, , ,W, grid, , , ,N
Point19,xy, , ,in, deg, , ,N, , ,W, grid, , , ,N
Point20,xy, , ,in, deg, , ,N, , ,W, grid, , , ,N
Point21,xy, , ,in, deg, , ,N, , ,W, grid, , , ,N
Point22,xy, , ,in, deg, , ,N, , ,W, grid, , , ,N
Point23,xy, , ,in, deg, , ,N, , ,W, grid, , , ,N
Point24,xy, , ,in, deg, , ,N, , ,W, grid, , , ,N
Point25,xy, , ,in, deg, , ,N, , ,W, grid, , , ,N
Point26,xy, , ,in, deg, , ,N, , ,W, grid, , , ,N
Point27,xy, , ,in, deg, , ,N, , ,W, grid, , , ,N
Point28,xy, , ,in, deg, , ,N, , ,W, grid, , , ,N
Point29,xy, , ,in, deg, , ,N, , ,W, grid, , , ,N
Point30,xy, , ,in, deg, , ,N, , ,W, grid, , , ,N
Projection Setup, 0.000000000, -15.000000000, 1.000000000, 58500000.00, 0.00,,,,,
Map Feature = MF ; Map Comment = MC These follow if they exist
Track File = TF These follow if they exist
Moving Map Parameters = MM? These follow if they exist
MM0,Yes
MMPNUM,4
MMPXY,1,132,334
MMPXY,2,6569,342
MMPXY,3,6573,4717
MMPXY,4,121,4701
MMPLL,1, -13.000213, 12.666563
MMPLL,2, -11.999560, 12.667233
MMPLL,3, -12.000000, 12.000058
MMPLL,4, -13.000447, 12.000114
MM1B,16.894561
Other Grid Setup
GRGRID,Yes,4 Km,No,16711680,255,4 Km,0,16777215,8,0,Yes,Yes,No,x
MOP,Map Open Position,0,0
IWH,Map Image Width/Height,6784,4983
