OziExplorer Map Data File Version 2.2
c39-33
c39-33.jpg
1 ,Map Code,
Pulkovo 1942 (1),WGS 84, 0.0000, 0.0000,WGS 84
Reserved 1
Reserved 2
Magnetic Variation,,,E
Map Projection,Transverse Mercator,PolyCal,No,AutoCalOnly,No,BSBUseWPX,No
Point01,xy, 85, 137,in, deg, 8, 40.0000,N, 50, 0.0000,E, grid, , , ,N
Point02,xy, 2914, 123,in, deg, 8, 40.0000,N, 51, 0.0000,E, grid, , , ,N
Point03,xy, 2928, 2030,in, deg, 8, 0.0000,N, 51, 0.0000,E, grid, , , ,N
Point04,xy, 93, 2047,in, deg, 8, 0.0000,N, 50, 0.0000,E, grid, , , ,N
Point05,xy, 1506, 1086,in, deg, 8, 20.0000,N, 50, 30.0000,E, grid, , , ,N
Point06,xy, 1500, 131,in, deg, 8, 40.0000,N, 50, 30.0000,E, grid, , , ,N
Point07,xy, 89, 1092,in, deg, 8, 20.0000,N, 50, 0.0000,E, grid, , , ,N
Point08,xy, 2920, 1079,in, deg, 8, 20.0000,N, 51, 0.0000,E, grid, , , ,N
Point09,xy, 1511, 2040,in, deg, 8, 0.0000,N, 50, 30.0000,E, grid, , , ,N
Point10,xy, , ,in, deg, , ,N, , ,W, grid, , , ,N
Point11,xy, , ,in, deg, , ,N, , ,W, grid, , , ,N
Point12,xy, , ,in, deg, , ,N, , ,W, grid, , , ,N
Point13,xy, , ,in, deg, , ,N, , ,W, grid, , , ,N
Point14,xy, , ,in, deg, , ,N, , ,W, grid, , , ,N
Point15,xy, , ,in, deg, , ,N, , ,W, grid, , , ,N
Point16,xy, , ,in, deg, , ,N, , ,W, grid, , , ,N
Point17,xy, , ,in, deg, , ,N, , ,W, grid, , , ,N
Point18,xy, , ,in, deg, , ,N, , ,W, grid, , , ,N
Point19,xy, , ,in, deg, , ,N, , ,W, grid, , , ,N
Point20,xy, , ,in, deg, , ,N, , ,W, grid, , , ,N
Point21,xy, , ,in, deg, , ,N, , ,W, grid, , , ,N
Point22,xy, , ,in, deg, , ,N, , ,W, grid, , , ,N
Point23,xy, , ,in, deg, , ,N, , ,W, grid, , , ,N
Point24,xy, , ,in, deg, , ,N, , ,W, grid, , , ,N
Point25,xy, , ,in, deg, , ,N, , ,W, grid, , , ,N
Point26,xy, , ,in, deg, , ,N, , ,W, grid, , , ,N
Point27,xy, , ,in, deg, , ,N, , ,W, grid, , , ,N
Point28,xy, , ,in, deg, , ,N, , ,W, grid, , , ,N
Point29,xy, , ,in, deg, , ,N, , ,W, grid, , , ,N
Point30,xy, , ,in, deg, , ,N, , ,W, grid, , , ,N
Projection Setup, 0.000000000, 51.000000000, 1.000000000, 9500000.00, 0.00,,,,,
Map Feature = MF ; Map Comment = MC These follow if they exist
Track File = TF These follow if they exist
Moving Map Parameters = MM? These follow if they exist
MM0,Yes
MMPNUM,4
MMPXY,1,83,136
MMPXY,2,2915,122
MMPXY,3,2929,2031
MMPXY,4,91,2049
MMPLL,1, 49.999306, 8.667231
MMPLL,2, 51.000276, 8.667048
MMPLL,3, 51.000487, 8.000217
MMPLL,4, 49.999087, 7.999114
MM1B,38.885165
Other Grid Setup
GRGRID,Yes,4 Km,No,16711680,255,4 Km,0,16777215,8,0,Yes,Yes,No,x
MOP,Map Open Position,0,0
IWH,Map Image Width/Height,3000,2247
