OziExplorer Map Data File Version 2.2
c38-36e
c38-36e.jpg
1 ,Map Code,
Pulkovo 1942 (1),WGS 84, 0.0000, 0.0000,WGS 84
Reserved 1
Reserved 2
Magnetic Variation,,,E
Map Projection,Transverse Mercator,PolyCal,No,AutoCalOnly,No,BSBUseWPX,No
Point01,xy, 80, 303,in, deg, 8, 40.0000,N, 47, 0.0000,E, grid, , , ,N
Point02,xy, 6627, 331,in, deg, 8, 40.0000,N, 48, 0.0000,E, grid, , , ,N
Point03,xy, 6624, 4689,in, deg, 8, 0.0000,N, 48, 0.0000,E, grid, , , ,N
Point04,xy, 62, 4665,in, deg, 8, 0.0000,N, 47, 0.0000,E, grid, , , ,N
Point05,xy, 3348, 2496,in, deg, 8, 20.0000,N, 47, 30.0000,E, grid, , , ,N
Point06,xy, 3353, 317,in, deg, 8, 40.0000,N, 47, 30.0000,E, grid, , , ,N
Point07,xy, 69, 2483,in, deg, 8, 20.0000,N, 47, 0.0000,E, grid, , , ,N
Point08,xy, 6625, 2511,in, deg, 8, 20.0000,N, 48, 0.0000,E, grid, , , ,N
Point09,xy, 3339, 4691,in, deg, 8, 0.0000,N, 47, 30.0000,E, grid, , , ,N
Point10,xy, , ,in, deg, , ,N, , ,W, grid, , , ,N
Point11,xy, , ,in, deg, , ,N, , ,W, grid, , , ,N
Point12,xy, , ,in, deg, , ,N, , ,W, grid, , , ,N
Point13,xy, , ,in, deg, , ,N, , ,W, grid, , , ,N
Point14,xy, , ,in, deg, , ,N, , ,W, grid, , , ,N
Point15,xy, , ,in, deg, , ,N, , ,W, grid, , , ,N
Point16,xy, , ,in, deg, , ,N, , ,W, grid, , , ,N
Point17,xy, , ,in, deg, , ,N, , ,W, grid, , , ,N
Point18,xy, , ,in, deg, , ,N, , ,W, grid, , , ,N
Point19,xy, , ,in, deg, , ,N, , ,W, grid, , , ,N
Point20,xy, , ,in, deg, , ,N, , ,W, grid, , , ,N
Point21,xy, , ,in, deg, , ,N, , ,W, grid, , , ,N
Point22,xy, , ,in, deg, , ,N, , ,W, grid, , , ,N
Point23,xy, , ,in, deg, , ,N, , ,W, grid, , , ,N
Point24,xy, , ,in, deg, , ,N, , ,W, grid, , , ,N
Point25,xy, , ,in, deg, , ,N, , ,W, grid, , , ,N
Point26,xy, , ,in, deg, , ,N, , ,W, grid, , , ,N
Point27,xy, , ,in, deg, , ,N, , ,W, grid, , , ,N
Point28,xy, , ,in, deg, , ,N, , ,W, grid, , , ,N
Point29,xy, , ,in, deg, , ,N, , ,W, grid, , , ,N
Point30,xy, , ,in, deg, , ,N, , ,W, grid, , , ,N
Projection Setup, 0.000000000, 45.000000000, 1.000000000, 8500000.00, 0.00,,,,,
Map Feature = MF ; Map Comment = MC These follow if they exist
Track File = TF These follow if they exist
Moving Map Parameters = MM? These follow if they exist
MM0,Yes
MMPNUM,4
MMPXY,1,80,300
MMPXY,2,6629,330
MMPXY,3,6625,4690
MMPXY,4,62,4666
MMPLL,1, 47.000199, 8.667109
MMPLL,2, 48.000138, 8.666345
MMPLL,3, 48.000458, 8.000654
MMPLL,4, 47.000081, 7.999993
MM1B,16.812646
Other Grid Setup
GRGRID,Yes,4 Km,No,16711680,255,4 Km,0,16777215,8,0,Yes,Yes,No,x
MOP,Map Open Position,0,0
IWH,Map Image Width/Height,6736,4968
