OziExplorer Map Data File Version 2.2
c38-36
c38-36.jpg
1 ,Map Code,
Pulkovo 1942 (1),WGS 84, 0.0000, 0.0000,WGS 84
Reserved 1
Reserved 2
Magnetic Variation,,,E
Map Projection,Transverse Mercator,PolyCal,No,AutoCalOnly,No,BSBUseWPX,No
Point01,xy, 108, 136,in, deg, 8, 40.0000,N, 47, 0.0000,E, grid, , , ,N
Point02,xy, 2884, 128,in, deg, 8, 40.0000,N, 48, 0.0000,E, grid, , , ,N
Point03,xy, 2893, 1990,in, deg, 8, 0.0000,N, 48, 0.0000,E, grid, , , ,N
Point04,xy, 111, 1999,in, deg, 8, 0.0000,N, 47, 0.0000,E, grid, , , ,N
Point05,xy, 1499, 1062,in, deg, 8, 20.0000,N, 47, 30.0000,E, grid, , , ,N
Point06,xy, 1495, 133,in, deg, 8, 40.0000,N, 47, 30.0000,E, grid, , , ,N
Point07,xy, 109, 1067,in, deg, 8, 20.0000,N, 47, 0.0000,E, grid, , , ,N
Point08,xy, 2888, 1059,in, deg, 8, 20.0000,N, 48, 0.0000,E, grid, , , ,N
Point09,xy, 1500, 1998,in, deg, 8, 0.0000,N, 47, 30.0000,E, grid, , , ,N
Point10,xy, , ,in, deg, , ,N, , ,W, grid, , , ,N
Point11,xy, , ,in, deg, , ,N, , ,W, grid, , , ,N
Point12,xy, , ,in, deg, , ,N, , ,W, grid, , , ,N
Point13,xy, , ,in, deg, , ,N, , ,W, grid, , , ,N
Point14,xy, , ,in, deg, , ,N, , ,W, grid, , , ,N
Point15,xy, , ,in, deg, , ,N, , ,W, grid, , , ,N
Point16,xy, , ,in, deg, , ,N, , ,W, grid, , , ,N
Point17,xy, , ,in, deg, , ,N, , ,W, grid, , , ,N
Point18,xy, , ,in, deg, , ,N, , ,W, grid, , , ,N
Point19,xy, , ,in, deg, , ,N, , ,W, grid, , , ,N
Point20,xy, , ,in, deg, , ,N, , ,W, grid, , , ,N
Point21,xy, , ,in, deg, , ,N, , ,W, grid, , , ,N
Point22,xy, , ,in, deg, , ,N, , ,W, grid, , , ,N
Point23,xy, , ,in, deg, , ,N, , ,W, grid, , , ,N
Point24,xy, , ,in, deg, , ,N, , ,W, grid, , , ,N
Point25,xy, , ,in, deg, , ,N, , ,W, grid, , , ,N
Point26,xy, , ,in, deg, , ,N, , ,W, grid, , , ,N
Point27,xy, , ,in, deg, , ,N, , ,W, grid, , , ,N
Point28,xy, , ,in, deg, , ,N, , ,W, grid, , , ,N
Point29,xy, , ,in, deg, , ,N, , ,W, grid, , , ,N
Point30,xy, , ,in, deg, , ,N, , ,W, grid, , , ,N
Projection Setup, 0.000000000, 45.000000000, 1.000000000, 8500000.00, 0.00,,,,,
Map Feature = MF ; Map Comment = MC These follow if they exist
Track File = TF These follow if they exist
Moving Map Parameters = MM? These follow if they exist
MM0,Yes
MMPNUM,4
MMPXY,1,106,134
MMPXY,2,2885,127
MMPXY,3,2894,1992
MMPXY,4,110,2000
MMPLL,1, 46.999477, 8.667417
MMPLL,2, 48.000331, 8.666689
MMPLL,3, 48.000679, 7.999681
MMPLL,4, 46.999724, 7.999556
MM1B,39.658881
Other Grid Setup
GRGRID,Yes,4 Km,No,16711680,255,4 Km,0,16777215,8,0,Yes,Yes,No,x
MOP,Map Open Position,0,0
IWH,Map Image Width/Height,3000,2183
