OziExplorer Map Data File Version 2.2
c38-35
c38-35.jpg
1 ,Map Code,
Pulkovo 1942 (1),WGS 84, 0.0000, 0.0000,WGS 84
Reserved 1
Reserved 2
Magnetic Variation,,,E
Map Projection,Transverse Mercator,PolyCal,No,AutoCalOnly,No,BSBUseWPX,No
Point01,xy, 115, 150,in, deg, 8, 40.0000,N, 46, 0.0000,E, grid, , , ,N
Point02,xy, 2879, 132,in, deg, 8, 40.0000,N, 47, 0.0000,E, grid, , , ,N
Point03,xy, 2893, 1987,in, deg, 8, 0.0000,N, 47, 0.0000,E, grid, , , ,N
Point04,xy, 125, 2006,in, deg, 8, 0.0000,N, 46, 0.0000,E, grid, , , ,N
Point05,xy, 1503, 1069,in, deg, 8, 20.0000,N, 46, 30.0000,E, grid, , , ,N
Point06,xy, 1497, 141,in, deg, 8, 40.0000,N, 46, 30.0000,E, grid, , , ,N
Point07,xy, 120, 1078,in, deg, 8, 20.0000,N, 46, 0.0000,E, grid, , , ,N
Point08,xy, 2886, 1059,in, deg, 8, 20.0000,N, 47, 0.0000,E, grid, , , ,N
Point09,xy, 1508, 1996,in, deg, 8, 0.0000,N, 46, 30.0000,E, grid, , , ,N
Point10,xy, , ,in, deg, , ,N, , ,W, grid, , , ,N
Point11,xy, , ,in, deg, , ,N, , ,W, grid, , , ,N
Point12,xy, , ,in, deg, , ,N, , ,W, grid, , , ,N
Point13,xy, , ,in, deg, , ,N, , ,W, grid, , , ,N
Point14,xy, , ,in, deg, , ,N, , ,W, grid, , , ,N
Point15,xy, , ,in, deg, , ,N, , ,W, grid, , , ,N
Point16,xy, , ,in, deg, , ,N, , ,W, grid, , , ,N
Point17,xy, , ,in, deg, , ,N, , ,W, grid, , , ,N
Point18,xy, , ,in, deg, , ,N, , ,W, grid, , , ,N
Point19,xy, , ,in, deg, , ,N, , ,W, grid, , , ,N
Point20,xy, , ,in, deg, , ,N, , ,W, grid, , , ,N
Point21,xy, , ,in, deg, , ,N, , ,W, grid, , , ,N
Point22,xy, , ,in, deg, , ,N, , ,W, grid, , , ,N
Point23,xy, , ,in, deg, , ,N, , ,W, grid, , , ,N
Point24,xy, , ,in, deg, , ,N, , ,W, grid, , , ,N
Point25,xy, , ,in, deg, , ,N, , ,W, grid, , , ,N
Point26,xy, , ,in, deg, , ,N, , ,W, grid, , , ,N
Point27,xy, , ,in, deg, , ,N, , ,W, grid, , , ,N
Point28,xy, , ,in, deg, , ,N, , ,W, grid, , , ,N
Point29,xy, , ,in, deg, , ,N, , ,W, grid, , , ,N
Point30,xy, , ,in, deg, , ,N, , ,W, grid, , , ,N
Projection Setup, 0.000000000, 45.000000000, 1.000000000, 8500000.00, 0.00,,,,,
Map Feature = MF ; Map Comment = MC These follow if they exist
Track File = TF These follow if they exist
Moving Map Parameters = MM? These follow if they exist
MM0,Yes
MMPNUM,4
MMPXY,1,114,149
MMPXY,2,2881,131
MMPXY,3,2893,1989
MMPXY,4,124,2008
MMPLL,1, 45.999545, 8.667111
MMPLL,2, 47.000760, 8.666718
MMPLL,3, 47.000025, 7.999251
MMPLL,4, 45.999784, 7.998988
MM1B,39.820807
Other Grid Setup
GRGRID,Yes,4 Km,No,16711680,255,4 Km,0,16777215,8,0,Yes,Yes,No,x
MOP,Map Open Position,0,0
IWH,Map Image Width/Height,3000,2196
