OziExplorer Map Data File Version 2.2
c38-34e
c38-34e.jpg
1 ,Map Code,
Pulkovo 1942 (1),WGS 84, 0.0000, 0.0000,WGS 84
Reserved 1
Reserved 2
Magnetic Variation,,,E
Map Projection,Transverse Mercator,PolyCal,No,AutoCalOnly,No,BSBUseWPX,No
Point01,xy, 99, 293,in, deg, 8, 40.0000,N, 45, 0.0000,E, grid, , , ,N
Point02,xy, 6645, 316,in, deg, 8, 40.0000,N, 46, 0.0000,E, grid, , , ,N
Point03,xy, 6637, 4674,in, deg, 8, 0.0000,N, 46, 0.0000,E, grid, , , ,N
Point04,xy, 85, 4656,in, deg, 8, 0.0000,N, 45, 0.0000,E, grid, , , ,N
Point05,xy, 3365, 2483,in, deg, 8, 20.0000,N, 45, 30.0000,E, grid, , , ,N
Point06,xy, 3371, 298,in, deg, 8, 40.0000,N, 45, 30.0000,E, grid, , , ,N
Point07,xy, 92, 2473,in, deg, 8, 20.0000,N, 45, 0.0000,E, grid, , , ,N
Point08,xy, 6640, 2494,in, deg, 8, 20.0000,N, 46, 0.0000,E, grid, , , ,N
Point09,xy, 3362, 4668,in, deg, 8, 0.0000,N, 45, 30.0000,E, grid, , , ,N
Point10,xy, , ,in, deg, , ,N, , ,W, grid, , , ,N
Point11,xy, , ,in, deg, , ,N, , ,W, grid, , , ,N
Point12,xy, , ,in, deg, , ,N, , ,W, grid, , , ,N
Point13,xy, , ,in, deg, , ,N, , ,W, grid, , , ,N
Point14,xy, , ,in, deg, , ,N, , ,W, grid, , , ,N
Point15,xy, , ,in, deg, , ,N, , ,W, grid, , , ,N
Point16,xy, , ,in, deg, , ,N, , ,W, grid, , , ,N
Point17,xy, , ,in, deg, , ,N, , ,W, grid, , , ,N
Point18,xy, , ,in, deg, , ,N, , ,W, grid, , , ,N
Point19,xy, , ,in, deg, , ,N, , ,W, grid, , , ,N
Point20,xy, , ,in, deg, , ,N, , ,W, grid, , , ,N
Point21,xy, , ,in, deg, , ,N, , ,W, grid, , , ,N
Point22,xy, , ,in, deg, , ,N, , ,W, grid, , , ,N
Point23,xy, , ,in, deg, , ,N, , ,W, grid, , , ,N
Point24,xy, , ,in, deg, , ,N, , ,W, grid, , , ,N
Point25,xy, , ,in, deg, , ,N, , ,W, grid, , , ,N
Point26,xy, , ,in, deg, , ,N, , ,W, grid, , , ,N
Point27,xy, , ,in, deg, , ,N, , ,W, grid, , , ,N
Point28,xy, , ,in, deg, , ,N, , ,W, grid, , , ,N
Point29,xy, , ,in, deg, , ,N, , ,W, grid, , , ,N
Point30,xy, , ,in, deg, , ,N, , ,W, grid, , , ,N
Projection Setup, 0.000000000, 45.000000000, 1.000000000, 8500000.00, 0.00,,,,,
Map Feature = MF ; Map Comment = MC These follow if they exist
Track File = TF These follow if they exist
Moving Map Parameters = MM? These follow if they exist
MM0,Yes
MMPNUM,4
MMPXY,1,98,291
MMPXY,2,6645,314
MMPXY,3,6638,4675
MMPXY,4,84,4656
MMPLL,1, 44.999714, 8.666692
MMPLL,2, 46.000313, 8.666285
MMPLL,3, 45.999975, 8.000085
MMPLL,4, 45.000002, 7.999778
MM1B,16.814507
Other Grid Setup
GRGRID,Yes,4 Km,No,16711680,255,4 Km,0,16777215,8,0,Yes,Yes,No,x
MOP,Map Open Position,0,0
IWH,Map Image Width/Height,6744,4918
