OziExplorer Map Data File Version 2.2
c38-30e
c38-30e.jpg
1 ,Map Code,
Pulkovo 1942 (1),WGS 84, 0.0000, 0.0000,WGS 84
Reserved 1
Reserved 2
Magnetic Variation,,,E
Map Projection,Transverse Mercator,PolyCal,No,AutoCalOnly,No,BSBUseWPX,No
Point01,xy, 100, 316,in, deg, 9, 20.0000,N, 47, 0.0000,E, grid, , , ,N
Point02,xy, 6642, 374,in, deg, 9, 20.0000,N, 48, 0.0000,E, grid, , , ,N
Point03,xy, 6611, 4736,in, deg, 8, 40.0000,N, 48, 0.0000,E, grid, , , ,N
Point04,xy, 57, 4678,in, deg, 8, 40.0000,N, 47, 0.0000,E, grid, , , ,N
Point05,xy, 3353, 2528,in, deg, 9, 0.0000,N, 47, 30.0000,E, grid, , , ,N
Point06,xy, 3371, 345,in, deg, 9, 20.0000,N, 47, 30.0000,E, grid, , , ,N
Point07,xy, 78, 2496,in, deg, 9, 0.0000,N, 47, 0.0000,E, grid, , , ,N
Point08,xy, 6627, 2555,in, deg, 9, 0.0000,N, 48, 0.0000,E, grid, , , ,N
Point09,xy, 3334, 4714,in, deg, 8, 40.0000,N, 47, 30.0000,E, grid, , , ,N
Point10,xy, , ,in, deg, , ,N, , ,W, grid, , , ,N
Point11,xy, , ,in, deg, , ,N, , ,W, grid, , , ,N
Point12,xy, , ,in, deg, , ,N, , ,W, grid, , , ,N
Point13,xy, , ,in, deg, , ,N, , ,W, grid, , , ,N
Point14,xy, , ,in, deg, , ,N, , ,W, grid, , , ,N
Point15,xy, , ,in, deg, , ,N, , ,W, grid, , , ,N
Point16,xy, , ,in, deg, , ,N, , ,W, grid, , , ,N
Point17,xy, , ,in, deg, , ,N, , ,W, grid, , , ,N
Point18,xy, , ,in, deg, , ,N, , ,W, grid, , , ,N
Point19,xy, , ,in, deg, , ,N, , ,W, grid, , , ,N
Point20,xy, , ,in, deg, , ,N, , ,W, grid, , , ,N
Point21,xy, , ,in, deg, , ,N, , ,W, grid, , , ,N
Point22,xy, , ,in, deg, , ,N, , ,W, grid, , , ,N
Point23,xy, , ,in, deg, , ,N, , ,W, grid, , , ,N
Point24,xy, , ,in, deg, , ,N, , ,W, grid, , , ,N
Point25,xy, , ,in, deg, , ,N, , ,W, grid, , , ,N
Point26,xy, , ,in, deg, , ,N, , ,W, grid, , , ,N
Point27,xy, , ,in, deg, , ,N, , ,W, grid, , , ,N
Point28,xy, , ,in, deg, , ,N, , ,W, grid, , , ,N
Point29,xy, , ,in, deg, , ,N, , ,W, grid, , , ,N
Point30,xy, , ,in, deg, , ,N, , ,W, grid, , , ,N
Projection Setup, 0.000000000, 45.000000000, 1.000000000, 8500000.00, 0.00,,,,,
Map Feature = MF ; Map Comment = MC These follow if they exist
Track File = TF These follow if they exist
Moving Map Parameters = MM? These follow if they exist
MM0,Yes
MMPNUM,4
MMPXY,1,99,314
MMPXY,2,6643,373
MMPXY,3,6612,4736
MMPXY,4,56,4679
MMPLL,1, 46.999841, 9.333580
MMPLL,2, 48.000104, 9.333223
MMPLL,3, 48.000101, 8.667026
MMPLL,4, 46.999844, 8.666562
MM1B,16.798345
Other Grid Setup
GRGRID,Yes,4 Km,No,16711680,255,4 Km,0,16777215,8,0,Yes,Yes,No,x
MOP,Map Open Position,0,0
IWH,Map Image Width/Height,6738,5047
