OziExplorer Map Data File Version 2.2
c38-29e
c38-29e.jpg
1 ,Map Code,
Pulkovo 1942 (1),WGS 84, 0.0000, 0.0000,WGS 84
Reserved 1
Reserved 2
Magnetic Variation,,,E
Map Projection,Transverse Mercator,PolyCal,No,AutoCalOnly,No,BSBUseWPX,No
Point01,xy, 97, 289,in, deg, 9, 20.0000,N, 46, 0.0000,E, grid, , , ,N
Point02,xy, 6627, 364,in, deg, 9, 20.0000,N, 47, 0.0000,E, grid, , , ,N
Point03,xy, 6591, 4724,in, deg, 8, 40.0000,N, 47, 0.0000,E, grid, , , ,N
Point04,xy, 45, 4646,in, deg, 8, 40.0000,N, 46, 0.0000,E, grid, , , ,N
Point05,xy, 3340, 2509,in, deg, 9, 0.0000,N, 46, 30.0000,E, grid, , , ,N
Point06,xy, 3365, 323,in, deg, 9, 20.0000,N, 46, 30.0000,E, grid, , , ,N
Point07,xy, 71, 2470,in, deg, 9, 0.0000,N, 46, 0.0000,E, grid, , , ,N
Point08,xy, 6609, 2545,in, deg, 9, 0.0000,N, 47, 0.0000,E, grid, , , ,N
Point09,xy, 3319, 4691,in, deg, 8, 40.0000,N, 46, 30.0000,E, grid, , , ,N
Point10,xy, , ,in, deg, , ,N, , ,W, grid, , , ,N
Point11,xy, , ,in, deg, , ,N, , ,W, grid, , , ,N
Point12,xy, , ,in, deg, , ,N, , ,W, grid, , , ,N
Point13,xy, , ,in, deg, , ,N, , ,W, grid, , , ,N
Point14,xy, , ,in, deg, , ,N, , ,W, grid, , , ,N
Point15,xy, , ,in, deg, , ,N, , ,W, grid, , , ,N
Point16,xy, , ,in, deg, , ,N, , ,W, grid, , , ,N
Point17,xy, , ,in, deg, , ,N, , ,W, grid, , , ,N
Point18,xy, , ,in, deg, , ,N, , ,W, grid, , , ,N
Point19,xy, , ,in, deg, , ,N, , ,W, grid, , , ,N
Point20,xy, , ,in, deg, , ,N, , ,W, grid, , , ,N
Point21,xy, , ,in, deg, , ,N, , ,W, grid, , , ,N
Point22,xy, , ,in, deg, , ,N, , ,W, grid, , , ,N
Point23,xy, , ,in, deg, , ,N, , ,W, grid, , , ,N
Point24,xy, , ,in, deg, , ,N, , ,W, grid, , , ,N
Point25,xy, , ,in, deg, , ,N, , ,W, grid, , , ,N
Point26,xy, , ,in, deg, , ,N, , ,W, grid, , , ,N
Point27,xy, , ,in, deg, , ,N, , ,W, grid, , , ,N
Point28,xy, , ,in, deg, , ,N, , ,W, grid, , , ,N
Point29,xy, , ,in, deg, , ,N, , ,W, grid, , , ,N
Point30,xy, , ,in, deg, , ,N, , ,W, grid, , , ,N
Projection Setup, 0.000000000, 45.000000000, 1.000000000, 8500000.00, 0.00,,,,,
Map Feature = MF ; Map Comment = MC These follow if they exist
Track File = TF These follow if they exist
Moving Map Parameters = MM? These follow if they exist
MM0,Yes
MMPNUM,4
MMPXY,1,96,286
MMPXY,2,6629,363
MMPXY,3,6592,4724
MMPXY,4,45,4646
MMPLL,1, 45.999865, 9.333591
MMPLL,2, 47.000024, 9.333280
MMPLL,3, 47.000279, 8.666886
MMPLL,4, 45.999810, 8.667026
MM1B,16.814570
Other Grid Setup
GRGRID,Yes,4 Km,No,16711680,255,4 Km,0,16777215,8,0,Yes,Yes,No,x
MOP,Map Open Position,0,0
IWH,Map Image Width/Height,6745,4989
