OziExplorer Map Data File Version 2.2
c38-29
c38-29.jpg
1 ,Map Code,
Pulkovo 1942 (1),WGS 84, 0.0000, 0.0000,WGS 84
Reserved 1
Reserved 2
Magnetic Variation,,,E
Map Projection,Transverse Mercator,PolyCal,No,AutoCalOnly,No,BSBUseWPX,No
Point01,xy, 98, 136,in, deg, 9, 20.0000,N, 46, 0.0000,E, grid, , , ,N
Point02,xy, 2919, 138,in, deg, 9, 20.0000,N, 47, 0.0000,E, grid, , , ,N
Point03,xy, 2921, 2033,in, deg, 8, 40.0000,N, 47, 0.0000,E, grid, , , ,N
Point04,xy, 94, 2033,in, deg, 8, 40.0000,N, 46, 0.0000,E, grid, , , ,N
Point05,xy, 1508, 1086,in, deg, 9, 0.0000,N, 46, 30.0000,E, grid, , , ,N
Point06,xy, 1510, 137,in, deg, 9, 20.0000,N, 46, 30.0000,E, grid, , , ,N
Point07,xy, 96, 1086,in, deg, 9, 0.0000,N, 46, 0.0000,E, grid, , , ,N
Point08,xy, 2920, 1086,in, deg, 9, 0.0000,N, 47, 0.0000,E, grid, , , ,N
Point09,xy, 1508, 2034,in, deg, 8, 40.0000,N, 46, 30.0000,E, grid, , , ,N
Point10,xy, , ,in, deg, , ,N, , ,W, grid, , , ,N
Point11,xy, , ,in, deg, , ,N, , ,W, grid, , , ,N
Point12,xy, , ,in, deg, , ,N, , ,W, grid, , , ,N
Point13,xy, , ,in, deg, , ,N, , ,W, grid, , , ,N
Point14,xy, , ,in, deg, , ,N, , ,W, grid, , , ,N
Point15,xy, , ,in, deg, , ,N, , ,W, grid, , , ,N
Point16,xy, , ,in, deg, , ,N, , ,W, grid, , , ,N
Point17,xy, , ,in, deg, , ,N, , ,W, grid, , , ,N
Point18,xy, , ,in, deg, , ,N, , ,W, grid, , , ,N
Point19,xy, , ,in, deg, , ,N, , ,W, grid, , , ,N
Point20,xy, , ,in, deg, , ,N, , ,W, grid, , , ,N
Point21,xy, , ,in, deg, , ,N, , ,W, grid, , , ,N
Point22,xy, , ,in, deg, , ,N, , ,W, grid, , , ,N
Point23,xy, , ,in, deg, , ,N, , ,W, grid, , , ,N
Point24,xy, , ,in, deg, , ,N, , ,W, grid, , , ,N
Point25,xy, , ,in, deg, , ,N, , ,W, grid, , , ,N
Point26,xy, , ,in, deg, , ,N, , ,W, grid, , , ,N
Point27,xy, , ,in, deg, , ,N, , ,W, grid, , , ,N
Point28,xy, , ,in, deg, , ,N, , ,W, grid, , , ,N
Point29,xy, , ,in, deg, , ,N, , ,W, grid, , , ,N
Point30,xy, , ,in, deg, , ,N, , ,W, grid, , , ,N
Projection Setup, 0.000000000, 45.000000000, 1.000000000, 8500000.00, 0.00,,,,,
Map Feature = MF ; Map Comment = MC These follow if they exist
Track File = TF These follow if they exist
Moving Map Parameters = MM? These follow if they exist
MM0,Yes
MMPNUM,4
MMPXY,1,96,135
MMPXY,2,2921,137
MMPXY,3,2923,2035
MMPXY,4,93,2034
MMPLL,1, 45.999212, 9.333973
MMPLL,2, 47.000490, 9.333354
MMPLL,3, 47.000753, 8.666260
MMPLL,4, 45.999541, 8.666227
MM1B,38.934807
Other Grid Setup
GRGRID,Yes,4 Km,No,16711680,255,4 Km,0,16777215,8,0,Yes,Yes,No,x
MOP,Map Open Position,0,0
IWH,Map Image Width/Height,3000,2224
