OziExplorer Map Data File Version 2.2
c38-28
c38-28.jpg
1 ,Map Code,
Pulkovo 1942 (1),WGS 84, 0.0000, 0.0000,WGS 84
Reserved 1
Reserved 2
Magnetic Variation,,,E
Map Projection,Transverse Mercator,PolyCal,No,AutoCalOnly,No,BSBUseWPX,No
Point01,xy, 124, 115,in, deg, 9, 20.0000,N, 45, 0.0000,E, grid, , , ,N
Point02,xy, 2891, 118,in, deg, 9, 20.0000,N, 46, 0.0000,E, grid, , , ,N
Point03,xy, 2890, 1978,in, deg, 8, 40.0000,N, 46, 0.0000,E, grid, , , ,N
Point04,xy, 117, 1974,in, deg, 8, 40.0000,N, 45, 0.0000,E, grid, , , ,N
Point05,xy, 1505, 1047,in, deg, 9, 0.0000,N, 45, 30.0000,E, grid, , , ,N
Point06,xy, 1507, 118,in, deg, 9, 20.0000,N, 45, 30.0000,E, grid, , , ,N
Point07,xy, 120, 1045,in, deg, 9, 0.0000,N, 45, 0.0000,E, grid, , , ,N
Point08,xy, 2891, 1048,in, deg, 9, 0.0000,N, 46, 0.0000,E, grid, , , ,N
Point09,xy, 1504, 1976,in, deg, 8, 40.0000,N, 45, 30.0000,E, grid, , , ,N
Point10,xy, , ,in, deg, , ,N, , ,W, grid, , , ,N
Point11,xy, , ,in, deg, , ,N, , ,W, grid, , , ,N
Point12,xy, , ,in, deg, , ,N, , ,W, grid, , , ,N
Point13,xy, , ,in, deg, , ,N, , ,W, grid, , , ,N
Point14,xy, , ,in, deg, , ,N, , ,W, grid, , , ,N
Point15,xy, , ,in, deg, , ,N, , ,W, grid, , , ,N
Point16,xy, , ,in, deg, , ,N, , ,W, grid, , , ,N
Point17,xy, , ,in, deg, , ,N, , ,W, grid, , , ,N
Point18,xy, , ,in, deg, , ,N, , ,W, grid, , , ,N
Point19,xy, , ,in, deg, , ,N, , ,W, grid, , , ,N
Point20,xy, , ,in, deg, , ,N, , ,W, grid, , , ,N
Point21,xy, , ,in, deg, , ,N, , ,W, grid, , , ,N
Point22,xy, , ,in, deg, , ,N, , ,W, grid, , , ,N
Point23,xy, , ,in, deg, , ,N, , ,W, grid, , , ,N
Point24,xy, , ,in, deg, , ,N, , ,W, grid, , , ,N
Point25,xy, , ,in, deg, , ,N, , ,W, grid, , , ,N
Point26,xy, , ,in, deg, , ,N, , ,W, grid, , , ,N
Point27,xy, , ,in, deg, , ,N, , ,W, grid, , , ,N
Point28,xy, , ,in, deg, , ,N, , ,W, grid, , , ,N
Point29,xy, , ,in, deg, , ,N, , ,W, grid, , , ,N
Point30,xy, , ,in, deg, , ,N, , ,W, grid, , , ,N
Projection Setup, 0.000000000, 45.000000000, 1.000000000, 8500000.00, 0.00,,,,,
Map Feature = MF ; Map Comment = MC These follow if they exist
Track File = TF These follow if they exist
Moving Map Parameters = MM? These follow if they exist
MM0,Yes
MMPNUM,4
MMPXY,1,122,114
MMPXY,2,2893,118
MMPXY,3,2892,1979
MMPXY,4,116,1974
MMPLL,1, 44.999494, 9.333737
MMPLL,2, 46.000658, 9.333449
MMPLL,3, 46.000704, 8.666124
MMPLL,4, 44.999569, 8.666669
MM1B,39.677357
Other Grid Setup
GRGRID,Yes,4 Km,No,16711680,255,4 Km,0,16777215,8,0,Yes,Yes,No,x
MOP,Map Open Position,0,0
IWH,Map Image Width/Height,3000,2172
