OziExplorer Map Data File Version 2.2
c38-24
c38-24.jpg
1 ,Map Code,
Pulkovo 1942 (1),WGS 84, 0.0000, 0.0000,WGS 84
Reserved 1
Reserved 2
Magnetic Variation,,,E
Map Projection,Transverse Mercator,PolyCal,No,AutoCalOnly,No,BSBUseWPX,No
Point01,xy, 148, 126,in, deg, 10, 0.0000,N, 47, 0.0000,E, grid, , , ,N
Point02,xy, 2914, 121,in, deg, 10, 0.0000,N, 48, 0.0000,E, grid, , , ,N
Point03,xy, 2921, 1985,in, deg, 9, 20.0000,N, 48, 0.0000,E, grid, , , ,N
Point04,xy, 150, 1991,in, deg, 9, 20.0000,N, 47, 0.0000,E, grid, , , ,N
Point05,xy, 1532, 1057,in, deg, 9, 40.0000,N, 47, 30.0000,E, grid, , , ,N
Point06,xy, 1531, 124,in, deg, 10, 0.0000,N, 47, 30.0000,E, grid, , , ,N
Point07,xy, 149, 1058,in, deg, 9, 40.0000,N, 47, 0.0000,E, grid, , , ,N
Point08,xy, 2917, 1053,in, deg, 9, 40.0000,N, 48, 0.0000,E, grid, , , ,N
Point09,xy, 1535, 1989,in, deg, 9, 20.0000,N, 47, 30.0000,E, grid, , , ,N
Point10,xy, , ,in, deg, , ,N, , ,W, grid, , , ,N
Point11,xy, , ,in, deg, , ,N, , ,W, grid, , , ,N
Point12,xy, , ,in, deg, , ,N, , ,W, grid, , , ,N
Point13,xy, , ,in, deg, , ,N, , ,W, grid, , , ,N
Point14,xy, , ,in, deg, , ,N, , ,W, grid, , , ,N
Point15,xy, , ,in, deg, , ,N, , ,W, grid, , , ,N
Point16,xy, , ,in, deg, , ,N, , ,W, grid, , , ,N
Point17,xy, , ,in, deg, , ,N, , ,W, grid, , , ,N
Point18,xy, , ,in, deg, , ,N, , ,W, grid, , , ,N
Point19,xy, , ,in, deg, , ,N, , ,W, grid, , , ,N
Point20,xy, , ,in, deg, , ,N, , ,W, grid, , , ,N
Point21,xy, , ,in, deg, , ,N, , ,W, grid, , , ,N
Point22,xy, , ,in, deg, , ,N, , ,W, grid, , , ,N
Point23,xy, , ,in, deg, , ,N, , ,W, grid, , , ,N
Point24,xy, , ,in, deg, , ,N, , ,W, grid, , , ,N
Point25,xy, , ,in, deg, , ,N, , ,W, grid, , , ,N
Point26,xy, , ,in, deg, , ,N, , ,W, grid, , , ,N
Point27,xy, , ,in, deg, , ,N, , ,W, grid, , , ,N
Point28,xy, , ,in, deg, , ,N, , ,W, grid, , , ,N
Point29,xy, , ,in, deg, , ,N, , ,W, grid, , , ,N
Point30,xy, , ,in, deg, , ,N, , ,W, grid, , , ,N
Projection Setup, 0.000000000, 45.000000000, 1.000000000, 8500000.00, 0.00,,,,,
Map Feature = MF ; Map Comment = MC These follow if they exist
Track File = TF These follow if they exist
Moving Map Parameters = MM? These follow if they exist
MM0,Yes
MMPNUM,4
MMPXY,1,146,124
MMPXY,2,2915,120
MMPXY,3,2921,1987
MMPXY,4,149,1991
MMPLL,1, 46.999246, 10.000832
MMPLL,2, 48.000480, 10.000106
MMPLL,3, 48.000093, 9.332861
MMPLL,4, 46.999751, 9.333092
MM1B,39.665618
Other Grid Setup
GRGRID,Yes,4 Km,No,16711680,255,4 Km,0,16777215,8,0,Yes,Yes,No,x
MOP,Map Open Position,0,0
IWH,Map Image Width/Height,3000,2151
