OziExplorer Map Data File Version 2.2
c38-23e
c38-23e.jpg
1 ,Map Code,
Pulkovo 1942 (1),WGS 84, 0.0000, 0.0000,WGS 84
Reserved 1
Reserved 2
Magnetic Variation,,,E
Map Projection,Transverse Mercator,PolyCal,No,AutoCalOnly,No,BSBUseWPX,No
Point01,xy, 132, 326,in, deg, 10, 0.0000,N, 46, 0.0000,E, grid, , , ,N
Point02,xy, 6651, 343,in, deg, 10, 0.0000,N, 47, 0.0000,E, grid, , , ,N
Point03,xy, 6652, 4703,in, deg, 9, 20.0000,N, 47, 0.0000,E, grid, , , ,N
Point04,xy, 117, 4684,in, deg, 9, 20.0000,N, 46, 0.0000,E, grid, , , ,N
Point05,xy, 3388, 2516,in, deg, 9, 40.0000,N, 46, 30.0000,E, grid, , , ,N
Point06,xy, 3390, 334,in, deg, 10, 0.0000,N, 46, 30.0000,E, grid, , , ,N
Point07,xy, 124, 2506,in, deg, 9, 40.0000,N, 46, 0.0000,E, grid, , , ,N
Point08,xy, 6650, 2525,in, deg, 9, 40.0000,N, 47, 0.0000,E, grid, , , ,N
Point09,xy, 3385, 4697,in, deg, 9, 20.0000,N, 46, 30.0000,E, grid, , , ,N
Point10,xy, , ,in, deg, , ,N, , ,W, grid, , , ,N
Point11,xy, , ,in, deg, , ,N, , ,W, grid, , , ,N
Point12,xy, , ,in, deg, , ,N, , ,W, grid, , , ,N
Point13,xy, , ,in, deg, , ,N, , ,W, grid, , , ,N
Point14,xy, , ,in, deg, , ,N, , ,W, grid, , , ,N
Point15,xy, , ,in, deg, , ,N, , ,W, grid, , , ,N
Point16,xy, , ,in, deg, , ,N, , ,W, grid, , , ,N
Point17,xy, , ,in, deg, , ,N, , ,W, grid, , , ,N
Point18,xy, , ,in, deg, , ,N, , ,W, grid, , , ,N
Point19,xy, , ,in, deg, , ,N, , ,W, grid, , , ,N
Point20,xy, , ,in, deg, , ,N, , ,W, grid, , , ,N
Point21,xy, , ,in, deg, , ,N, , ,W, grid, , , ,N
Point22,xy, , ,in, deg, , ,N, , ,W, grid, , , ,N
Point23,xy, , ,in, deg, , ,N, , ,W, grid, , , ,N
Point24,xy, , ,in, deg, , ,N, , ,W, grid, , , ,N
Point25,xy, , ,in, deg, , ,N, , ,W, grid, , , ,N
Point26,xy, , ,in, deg, , ,N, , ,W, grid, , , ,N
Point27,xy, , ,in, deg, , ,N, , ,W, grid, , , ,N
Point28,xy, , ,in, deg, , ,N, , ,W, grid, , , ,N
Point29,xy, , ,in, deg, , ,N, , ,W, grid, , , ,N
Point30,xy, , ,in, deg, , ,N, , ,W, grid, , , ,N
Projection Setup, 0.000000000, 45.000000000, 1.000000000, 8500000.00, 0.00,,,,,
Map Feature = MF ; Map Comment = MC These follow if they exist
Track File = TF These follow if they exist
Moving Map Parameters = MM? These follow if they exist
MM0,Yes
MMPNUM,4
MMPXY,1,131,324
MMPXY,2,6652,342
MMPXY,3,6653,4704
MMPXY,4,116,4685
MMPLL,1, 46.000030, 10.000188
MMPLL,2, 47.000153, 10.000087
MMPLL,3, 47.000291, 9.333325
MMPLL,4, 45.999688, 9.333274
MM1B,16.814281
Other Grid Setup
GRGRID,Yes,4 Km,No,16711680,255,4 Km,0,16777215,8,0,Yes,Yes,No,x
MOP,Map Open Position,0,0
IWH,Map Image Width/Height,6794,4866
