OziExplorer Map Data File Version 2.2
c38-22e
c38-22e.jpg
1 ,Map Code,
Pulkovo 1942 (1),WGS 84, 0.0000, 0.0000,WGS 84
Reserved 1
Reserved 2
Magnetic Variation,,,E
Map Projection,Transverse Mercator,PolyCal,No,AutoCalOnly,No,BSBUseWPX,No
Point01,xy, 87, 305,in, deg, 10, 0.0000,N, 45, 0.0000,E, grid, , , ,N
Point02,xy, 6602, 330,in, deg, 10, 0.0000,N, 46, 0.0000,E, grid, , , ,N
Point03,xy, 6598, 4690,in, deg, 9, 20.0000,N, 46, 0.0000,E, grid, , , ,N
Point04,xy, 67, 4662,in, deg, 9, 20.0000,N, 45, 0.0000,E, grid, , , ,N
Point05,xy, 3339, 2497,in, deg, 9, 40.0000,N, 45, 30.0000,E, grid, , , ,N
Point06,xy, 3342, 315,in, deg, 10, 0.0000,N, 45, 30.0000,E, grid, , , ,N
Point07,xy, 78, 2484,in, deg, 9, 40.0000,N, 45, 0.0000,E, grid, , , ,N
Point08,xy, 6600, 2511,in, deg, 9, 40.0000,N, 46, 0.0000,E, grid, , , ,N
Point09,xy, 3335, 4684,in, deg, 9, 20.0000,N, 45, 30.0000,E, grid, , , ,N
Point10,xy, , ,in, deg, , ,N, , ,W, grid, , , ,N
Point11,xy, , ,in, deg, , ,N, , ,W, grid, , , ,N
Point12,xy, , ,in, deg, , ,N, , ,W, grid, , , ,N
Point13,xy, , ,in, deg, , ,N, , ,W, grid, , , ,N
Point14,xy, , ,in, deg, , ,N, , ,W, grid, , , ,N
Point15,xy, , ,in, deg, , ,N, , ,W, grid, , , ,N
Point16,xy, , ,in, deg, , ,N, , ,W, grid, , , ,N
Point17,xy, , ,in, deg, , ,N, , ,W, grid, , , ,N
Point18,xy, , ,in, deg, , ,N, , ,W, grid, , , ,N
Point19,xy, , ,in, deg, , ,N, , ,W, grid, , , ,N
Point20,xy, , ,in, deg, , ,N, , ,W, grid, , , ,N
Point21,xy, , ,in, deg, , ,N, , ,W, grid, , , ,N
Point22,xy, , ,in, deg, , ,N, , ,W, grid, , , ,N
Point23,xy, , ,in, deg, , ,N, , ,W, grid, , , ,N
Point24,xy, , ,in, deg, , ,N, , ,W, grid, , , ,N
Point25,xy, , ,in, deg, , ,N, , ,W, grid, , , ,N
Point26,xy, , ,in, deg, , ,N, , ,W, grid, , , ,N
Point27,xy, , ,in, deg, , ,N, , ,W, grid, , , ,N
Point28,xy, , ,in, deg, , ,N, , ,W, grid, , , ,N
Point29,xy, , ,in, deg, , ,N, , ,W, grid, , , ,N
Point30,xy, , ,in, deg, , ,N, , ,W, grid, , , ,N
Projection Setup, 0.000000000, 45.000000000, 1.000000000, 8500000.00, 0.00,,,,,
Map Feature = MF ; Map Comment = MC These follow if they exist
Track File = TF These follow if they exist
Moving Map Parameters = MM? These follow if they exist
MM0,Yes
MMPNUM,4
MMPXY,1,88,303
MMPXY,2,6604,328
MMPXY,3,6599,4691
MMPXY,4,67,4663
MMPLL,1, 45.000345, 9.999936
MMPLL,2, 46.000313, 10.000136
MMPLL,3, 46.000145, 9.333378
MMPLL,4, 44.999693, 9.333526
MM1B,16.819737
Other Grid Setup
GRGRID,Yes,4 Km,No,16711680,255,4 Km,0,16777215,8,0,Yes,Yes,No,x
MOP,Map Open Position,0,0
IWH,Map Image Width/Height,6730,5008
