OziExplorer Map Data File Version 2.2
c38-20e
c38-20e.jpg
1 ,Map Code,
Pulkovo 1942 (1),WGS 84, 0.0000, 0.0000,WGS 84
Reserved 1
Reserved 2
Magnetic Variation,,,E
Map Projection,Transverse Mercator,PolyCal,No,AutoCalOnly,No,BSBUseWPX,No
Point01,xy, 97, 304,in, deg, 10, 0.0000,N, 43, 0.0000,E, grid, , , ,N
Point02,xy, 6612, 341,in, deg, 10, 0.0000,N, 44, 0.0000,E, grid, , , ,N
Point03,xy, 6604, 4702,in, deg, 9, 20.0000,N, 44, 0.0000,E, grid, , , ,N
Point04,xy, 70, 4668,in, deg, 9, 20.0000,N, 43, 0.0000,E, grid, , , ,N
Point05,xy, 3345, 2508,in, deg, 9, 40.0000,N, 43, 30.0000,E, grid, , , ,N
Point06,xy, 3353, 321,in, deg, 10, 0.0000,N, 43, 30.0000,E, grid, , , ,N
Point07,xy, 83, 2485,in, deg, 9, 40.0000,N, 43, 0.0000,E, grid, , , ,N
Point08,xy, 6609, 2523,in, deg, 9, 40.0000,N, 44, 0.0000,E, grid, , , ,N
Point09,xy, 3338, 4692,in, deg, 9, 20.0000,N, 43, 30.0000,E, grid, , , ,N
Point10,xy, , ,in, deg, , ,N, , ,W, grid, , , ,N
Point11,xy, , ,in, deg, , ,N, , ,W, grid, , , ,N
Point12,xy, , ,in, deg, , ,N, , ,W, grid, , , ,N
Point13,xy, , ,in, deg, , ,N, , ,W, grid, , , ,N
Point14,xy, , ,in, deg, , ,N, , ,W, grid, , , ,N
Point15,xy, , ,in, deg, , ,N, , ,W, grid, , , ,N
Point16,xy, , ,in, deg, , ,N, , ,W, grid, , , ,N
Point17,xy, , ,in, deg, , ,N, , ,W, grid, , , ,N
Point18,xy, , ,in, deg, , ,N, , ,W, grid, , , ,N
Point19,xy, , ,in, deg, , ,N, , ,W, grid, , , ,N
Point20,xy, , ,in, deg, , ,N, , ,W, grid, , , ,N
Point21,xy, , ,in, deg, , ,N, , ,W, grid, , , ,N
Point22,xy, , ,in, deg, , ,N, , ,W, grid, , , ,N
Point23,xy, , ,in, deg, , ,N, , ,W, grid, , , ,N
Point24,xy, , ,in, deg, , ,N, , ,W, grid, , , ,N
Point25,xy, , ,in, deg, , ,N, , ,W, grid, , , ,N
Point26,xy, , ,in, deg, , ,N, , ,W, grid, , , ,N
Point27,xy, , ,in, deg, , ,N, , ,W, grid, , , ,N
Point28,xy, , ,in, deg, , ,N, , ,W, grid, , , ,N
Point29,xy, , ,in, deg, , ,N, , ,W, grid, , , ,N
Point30,xy, , ,in, deg, , ,N, , ,W, grid, , , ,N
Projection Setup, 0.000000000, 45.000000000, 1.000000000, 8500000.00, 0.00,,,,,
Map Feature = MF ; Map Comment = MC These follow if they exist
Track File = TF These follow if they exist
Moving Map Parameters = MM? These follow if they exist
MM0,Yes
MMPNUM,4
MMPXY,1,96,302
MMPXY,2,6613,338
MMPXY,3,6605,4703
MMPXY,4,69,4669
MMPLL,1, 43.000203, 10.000117
MMPLL,2, 43.999968, 10.000310
MMPLL,3, 44.000311, 9.333560
MMPLL,4, 42.999607, 9.333344
MM1B,16.818907
Other Grid Setup
GRGRID,Yes,4 Km,No,16711680,255,4 Km,0,16777215,8,0,Yes,Yes,No,x
MOP,Map Open Position,0,0
IWH,Map Image Width/Height,6734,4975
