OziExplorer Map Data File Version 2.2
c38-20
c38-20.jpg
1 ,Map Code,
Pulkovo 1942 (1),WGS 84, 0.0000, 0.0000,WGS 84
Reserved 1
Reserved 2
Magnetic Variation,,,E
Map Projection,Transverse Mercator,PolyCal,No,AutoCalOnly,No,BSBUseWPX,No
Point01,xy, 111, 102,in, deg, 10, 0.0000,N, 43, 0.0000,E, grid, , , ,N
Point02,xy, 2883, 104,in, deg, 10, 0.0000,N, 44, 0.0000,E, grid, , , ,N
Point03,xy, 2884, 1970,in, deg, 9, 20.0000,N, 44, 0.0000,E, grid, , , ,N
Point04,xy, 106, 1971,in, deg, 9, 20.0000,N, 43, 0.0000,E, grid, , , ,N
Point05,xy, 1496, 1039,in, deg, 9, 40.0000,N, 43, 30.0000,E, grid, , , ,N
Point06,xy, 1497, 104,in, deg, 10, 0.0000,N, 43, 30.0000,E, grid, , , ,N
Point07,xy, 108, 1037,in, deg, 9, 40.0000,N, 43, 0.0000,E, grid, , , ,N
Point08,xy, 2884, 1038,in, deg, 9, 40.0000,N, 44, 0.0000,E, grid, , , ,N
Point09,xy, 1495, 1972,in, deg, 9, 20.0000,N, 43, 30.0000,E, grid, , , ,N
Point10,xy, , ,in, deg, , ,N, , ,W, grid, , , ,N
Point11,xy, , ,in, deg, , ,N, , ,W, grid, , , ,N
Point12,xy, , ,in, deg, , ,N, , ,W, grid, , , ,N
Point13,xy, , ,in, deg, , ,N, , ,W, grid, , , ,N
Point14,xy, , ,in, deg, , ,N, , ,W, grid, , , ,N
Point15,xy, , ,in, deg, , ,N, , ,W, grid, , , ,N
Point16,xy, , ,in, deg, , ,N, , ,W, grid, , , ,N
Point17,xy, , ,in, deg, , ,N, , ,W, grid, , , ,N
Point18,xy, , ,in, deg, , ,N, , ,W, grid, , , ,N
Point19,xy, , ,in, deg, , ,N, , ,W, grid, , , ,N
Point20,xy, , ,in, deg, , ,N, , ,W, grid, , , ,N
Point21,xy, , ,in, deg, , ,N, , ,W, grid, , , ,N
Point22,xy, , ,in, deg, , ,N, , ,W, grid, , , ,N
Point23,xy, , ,in, deg, , ,N, , ,W, grid, , , ,N
Point24,xy, , ,in, deg, , ,N, , ,W, grid, , , ,N
Point25,xy, , ,in, deg, , ,N, , ,W, grid, , , ,N
Point26,xy, , ,in, deg, , ,N, , ,W, grid, , , ,N
Point27,xy, , ,in, deg, , ,N, , ,W, grid, , , ,N
Point28,xy, , ,in, deg, , ,N, , ,W, grid, , , ,N
Point29,xy, , ,in, deg, , ,N, , ,W, grid, , , ,N
Point30,xy, , ,in, deg, , ,N, , ,W, grid, , , ,N
Projection Setup, 0.000000000, 45.000000000, 1.000000000, 8500000.00, 0.00,,,,,
Map Feature = MF ; Map Comment = MC These follow if they exist
Track File = TF These follow if they exist
Moving Map Parameters = MM? These follow if they exist
MM0,Yes
MMPNUM,4
MMPXY,1,109,101
MMPXY,2,2884,102
MMPXY,3,2886,1972
MMPXY,4,105,1972
MMPLL,1, 42.999392, 10.000611
MMPLL,2, 44.000266, 10.000642
MMPLL,3, 44.000721, 9.333001
MMPLL,4, 42.999661, 9.332913
MM1B,39.542318
Other Grid Setup
GRGRID,Yes,4 Km,No,16711680,255,4 Km,0,16777215,8,0,Yes,Yes,No,x
MOP,Map Open Position,0,0
IWH,Map Image Width/Height,3000,2159
