OziExplorer Map Data File Version 2.2
c38-18e
c38-18e.jpg
1 ,Map Code,
Pulkovo 1942 (1),WGS 84, 0.0000, 0.0000,WGS 84
Reserved 1
Reserved 2
Magnetic Variation,,,E
Map Projection,Transverse Mercator,PolyCal,No,AutoCalOnly,No,BSBUseWPX,No
Point01,xy, 83, 303,in, deg, 10, 40.0000,N, 47, 0.0000,E, grid, , , ,N
Point02,xy, 6589, 315,in, deg, 10, 40.0000,N, 48, 0.0000,E, grid, , , ,N
Point03,xy, 6590, 4678,in, deg, 10, 0.0000,N, 48, 0.0000,E, grid, , , ,N
Point04,xy, 69, 4665,in, deg, 10, 0.0000,N, 47, 0.0000,E, grid, , , ,N
Point05,xy, 3332, 2494,in, deg, 10, 20.0000,N, 47, 30.0000,E, grid, , , ,N
Point06,xy, 3333, 308,in, deg, 10, 40.0000,N, 47, 30.0000,E, grid, , , ,N
Point07,xy, 77, 2485,in, deg, 10, 20.0000,N, 47, 0.0000,E, grid, , , ,N
Point08,xy, 6588, 2496,in, deg, 10, 20.0000,N, 48, 0.0000,E, grid, , , ,N
Point09,xy, 3331, 4679,in, deg, 10, 0.0000,N, 47, 30.0000,E, grid, , , ,N
Point10,xy, , ,in, deg, , ,N, , ,W, grid, , , ,N
Point11,xy, , ,in, deg, , ,N, , ,W, grid, , , ,N
Point12,xy, , ,in, deg, , ,N, , ,W, grid, , , ,N
Point13,xy, , ,in, deg, , ,N, , ,W, grid, , , ,N
Point14,xy, , ,in, deg, , ,N, , ,W, grid, , , ,N
Point15,xy, , ,in, deg, , ,N, , ,W, grid, , , ,N
Point16,xy, , ,in, deg, , ,N, , ,W, grid, , , ,N
Point17,xy, , ,in, deg, , ,N, , ,W, grid, , , ,N
Point18,xy, , ,in, deg, , ,N, , ,W, grid, , , ,N
Point19,xy, , ,in, deg, , ,N, , ,W, grid, , , ,N
Point20,xy, , ,in, deg, , ,N, , ,W, grid, , , ,N
Point21,xy, , ,in, deg, , ,N, , ,W, grid, , , ,N
Point22,xy, , ,in, deg, , ,N, , ,W, grid, , , ,N
Point23,xy, , ,in, deg, , ,N, , ,W, grid, , , ,N
Point24,xy, , ,in, deg, , ,N, , ,W, grid, , , ,N
Point25,xy, , ,in, deg, , ,N, , ,W, grid, , , ,N
Point26,xy, , ,in, deg, , ,N, , ,W, grid, , , ,N
Point27,xy, , ,in, deg, , ,N, , ,W, grid, , , ,N
Point28,xy, , ,in, deg, , ,N, , ,W, grid, , , ,N
Point29,xy, , ,in, deg, , ,N, , ,W, grid, , , ,N
Point30,xy, , ,in, deg, , ,N, , ,W, grid, , , ,N
Projection Setup, 0.000000000, 45.000000000, 1.000000000, 8500000.00, 0.00,,,,,
Map Feature = MF ; Map Comment = MC These follow if they exist
Track File = TF These follow if they exist
Moving Map Parameters = MM? These follow if they exist
MM0,Yes
MMPNUM,4
MMPXY,1,83,302
MMPXY,2,6589,314
MMPXY,3,6590,4679
MMPXY,4,69,4667
MMPLL,1, 47.000126, 10.666776
MMPLL,2, 48.000164, 10.666526
MMPLL,3, 48.000029, 10.000168
MMPLL,4, 46.999800, 9.999918
MM1B,16.825722
Other Grid Setup
GRGRID,Yes,4 Km,No,16711680,255,4 Km,0,16777215,8,0,Yes,Yes,No,x
MOP,Map Open Position,0,0
IWH,Map Image Width/Height,6726,4988
