OziExplorer Map Data File Version 2.2
c38-17
c38-17.jpg
1 ,Map Code,
Pulkovo 1942 (1),WGS 84, 0.0000, 0.0000,WGS 84
Reserved 1
Reserved 2
Magnetic Variation,,,E
Map Projection,Transverse Mercator,PolyCal,No,AutoCalOnly,No,BSBUseWPX,No
Point01,xy, 128, 144,in, deg, 10, 40.0000,N, 46, 0.0000,E, grid, , , ,N
Point02,xy, 2899, 129,in, deg, 10, 40.0000,N, 47, 0.0000,E, grid, , , ,N
Point03,xy, 2910, 2000,in, deg, 10, 0.0000,N, 47, 0.0000,E, grid, , , ,N
Point04,xy, 132, 2012,in, deg, 10, 0.0000,N, 46, 0.0000,E, grid, , , ,N
Point05,xy, 1517, 1072,in, deg, 10, 20.0000,N, 46, 30.0000,E, grid, , , ,N
Point06,xy, 1514, 138,in, deg, 10, 40.0000,N, 46, 30.0000,E, grid, , , ,N
Point07,xy, 130, 1079,in, deg, 10, 20.0000,N, 46, 0.0000,E, grid, , , ,N
Point08,xy, 2905, 1064,in, deg, 10, 20.0000,N, 47, 0.0000,E, grid, , , ,N
Point09,xy, 1521, 2006,in, deg, 10, 0.0000,N, 46, 30.0000,E, grid, , , ,N
Point10,xy, , ,in, deg, , ,N, , ,W, grid, , , ,N
Point11,xy, , ,in, deg, , ,N, , ,W, grid, , , ,N
Point12,xy, , ,in, deg, , ,N, , ,W, grid, , , ,N
Point13,xy, , ,in, deg, , ,N, , ,W, grid, , , ,N
Point14,xy, , ,in, deg, , ,N, , ,W, grid, , , ,N
Point15,xy, , ,in, deg, , ,N, , ,W, grid, , , ,N
Point16,xy, , ,in, deg, , ,N, , ,W, grid, , , ,N
Point17,xy, , ,in, deg, , ,N, , ,W, grid, , , ,N
Point18,xy, , ,in, deg, , ,N, , ,W, grid, , , ,N
Point19,xy, , ,in, deg, , ,N, , ,W, grid, , , ,N
Point20,xy, , ,in, deg, , ,N, , ,W, grid, , , ,N
Point21,xy, , ,in, deg, , ,N, , ,W, grid, , , ,N
Point22,xy, , ,in, deg, , ,N, , ,W, grid, , , ,N
Point23,xy, , ,in, deg, , ,N, , ,W, grid, , , ,N
Point24,xy, , ,in, deg, , ,N, , ,W, grid, , , ,N
Point25,xy, , ,in, deg, , ,N, , ,W, grid, , , ,N
Point26,xy, , ,in, deg, , ,N, , ,W, grid, , , ,N
Point27,xy, , ,in, deg, , ,N, , ,W, grid, , , ,N
Point28,xy, , ,in, deg, , ,N, , ,W, grid, , , ,N
Point29,xy, , ,in, deg, , ,N, , ,W, grid, , , ,N
Point30,xy, , ,in, deg, , ,N, , ,W, grid, , , ,N
Projection Setup, 0.000000000, 45.000000000, 1.000000000, 8500000.00, 0.00,,,,,
Map Feature = MF ; Map Comment = MC These follow if they exist
Track File = TF These follow if they exist
Moving Map Parameters = MM? These follow if they exist
MM0,Yes
MMPNUM,4
MMPXY,1,125,143
MMPXY,2,2900,128
MMPXY,3,2911,2001
MMPXY,4,131,2014
MMPLL,1, 45.998979, 10.666984
MMPLL,2, 47.000164, 10.667193
MMPLL,3, 47.000422, 9.999249
MMPLL,4, 45.999553, 9.999466
MM1B,39.471287
Other Grid Setup
GRGRID,Yes,4 Km,No,16711680,255,4 Km,0,16777215,8,0,Yes,Yes,No,x
MOP,Map Open Position,0,0
IWH,Map Image Width/Height,3000,2214
