OziExplorer Map Data File Version 2.2
c38-16e
c38-16e.jpg
1 ,Map Code,
Pulkovo 1942 (1),WGS 84, 0.0000, 0.0000,WGS 84
Reserved 1
Reserved 2
Magnetic Variation,,,E
Map Projection,Transverse Mercator,PolyCal,No,AutoCalOnly,No,BSBUseWPX,No
Point01,xy, 106, 309,in, deg, 10, 40.0000,N, 45, 0.0000,E, grid, , , ,N
Point02,xy, 6606, 387,in, deg, 10, 40.0000,N, 46, 0.0000,E, grid, , , ,N
Point03,xy, 6569, 4744,in, deg, 10, 0.0000,N, 46, 0.0000,E, grid, , , ,N
Point04,xy, 52, 4664,in, deg, 10, 0.0000,N, 45, 0.0000,E, grid, , , ,N
Point05,xy, 3327, 2530,in, deg, 10, 20.0000,N, 45, 30.0000,E, grid, , , ,N
Point06,xy, 3354, 350,in, deg, 10, 40.0000,N, 45, 30.0000,E, grid, , , ,N
Point07,xy, 80, 2489,in, deg, 10, 20.0000,N, 45, 0.0000,E, grid, , , ,N
Point08,xy, 6587, 2563,in, deg, 10, 20.0000,N, 46, 0.0000,E, grid, , , ,N
Point09,xy, 3311, 4711,in, deg, 10, 0.0000,N, 45, 30.0000,E, grid, , , ,N
Point10,xy, , ,in, deg, , ,N, , ,W, grid, , , ,N
Point11,xy, , ,in, deg, , ,N, , ,W, grid, , , ,N
Point12,xy, , ,in, deg, , ,N, , ,W, grid, , , ,N
Point13,xy, , ,in, deg, , ,N, , ,W, grid, , , ,N
Point14,xy, , ,in, deg, , ,N, , ,W, grid, , , ,N
Point15,xy, , ,in, deg, , ,N, , ,W, grid, , , ,N
Point16,xy, , ,in, deg, , ,N, , ,W, grid, , , ,N
Point17,xy, , ,in, deg, , ,N, , ,W, grid, , , ,N
Point18,xy, , ,in, deg, , ,N, , ,W, grid, , , ,N
Point19,xy, , ,in, deg, , ,N, , ,W, grid, , , ,N
Point20,xy, , ,in, deg, , ,N, , ,W, grid, , , ,N
Point21,xy, , ,in, deg, , ,N, , ,W, grid, , , ,N
Point22,xy, , ,in, deg, , ,N, , ,W, grid, , , ,N
Point23,xy, , ,in, deg, , ,N, , ,W, grid, , , ,N
Point24,xy, , ,in, deg, , ,N, , ,W, grid, , , ,N
Point25,xy, , ,in, deg, , ,N, , ,W, grid, , , ,N
Point26,xy, , ,in, deg, , ,N, , ,W, grid, , , ,N
Point27,xy, , ,in, deg, , ,N, , ,W, grid, , , ,N
Point28,xy, , ,in, deg, , ,N, , ,W, grid, , , ,N
Point29,xy, , ,in, deg, , ,N, , ,W, grid, , , ,N
Point30,xy, , ,in, deg, , ,N, , ,W, grid, , , ,N
Projection Setup, 0.000000000, 45.000000000, 1.000000000, 8500000.00, 0.00,,,,,
Map Feature = MF ; Map Comment = MC These follow if they exist
Track File = TF These follow if they exist
Moving Map Parameters = MM? These follow if they exist
MM0,Yes
MMPNUM,4
MMPXY,1,105,309
MMPXY,2,6607,386
MMPXY,3,6569,4745
MMPXY,4,51,4664
MMPLL,1, 45.000114, 10.666709
MMPLL,2, 46.000251, 10.666699
MMPLL,3, 46.000223, 9.999899
MMPLL,4, 44.999730, 10.000392
MM1B,16.821209
Other Grid Setup
GRGRID,Yes,4 Km,No,16711680,255,4 Km,0,16777215,8,0,Yes,Yes,No,x
MOP,Map Open Position,0,0
IWH,Map Image Width/Height,6715,5029
