OziExplorer Map Data File Version 2.2
c38-15e
c38-15e.jpg
1 ,Map Code,
Pulkovo 1942 (1),WGS 84, 0.0000, 0.0000,WGS 84
Reserved 1
Reserved 2
Magnetic Variation,,,E
Map Projection,Transverse Mercator,PolyCal,No,AutoCalOnly,No,BSBUseWPX,No
Point01,xy, 115, 306,in, deg, 10, 40.0000,N, 44, 0.0000,E, grid, , , ,N
Point02,xy, 6612, 355,in, deg, 10, 40.0000,N, 45, 0.0000,E, grid, , , ,N
Point03,xy, 6596, 4709,in, deg, 10, 0.0000,N, 45, 0.0000,E, grid, , , ,N
Point04,xy, 85, 4661,in, deg, 10, 0.0000,N, 44, 0.0000,E, grid, , , ,N
Point05,xy, 3352, 2508,in, deg, 10, 20.0000,N, 44, 30.0000,E, grid, , , ,N
Point06,xy, 3364, 326,in, deg, 10, 40.0000,N, 44, 30.0000,E, grid, , , ,N
Point07,xy, 100, 2482,in, deg, 10, 20.0000,N, 44, 0.0000,E, grid, , , ,N
Point08,xy, 6604, 2534,in, deg, 10, 20.0000,N, 45, 0.0000,E, grid, , , ,N
Point09,xy, 3340, 4690,in, deg, 10, 0.0000,N, 44, 30.0000,E, grid, , , ,N
Point10,xy, , ,in, deg, , ,N, , ,W, grid, , , ,N
Point11,xy, , ,in, deg, , ,N, , ,W, grid, , , ,N
Point12,xy, , ,in, deg, , ,N, , ,W, grid, , , ,N
Point13,xy, , ,in, deg, , ,N, , ,W, grid, , , ,N
Point14,xy, , ,in, deg, , ,N, , ,W, grid, , , ,N
Point15,xy, , ,in, deg, , ,N, , ,W, grid, , , ,N
Point16,xy, , ,in, deg, , ,N, , ,W, grid, , , ,N
Point17,xy, , ,in, deg, , ,N, , ,W, grid, , , ,N
Point18,xy, , ,in, deg, , ,N, , ,W, grid, , , ,N
Point19,xy, , ,in, deg, , ,N, , ,W, grid, , , ,N
Point20,xy, , ,in, deg, , ,N, , ,W, grid, , , ,N
Point21,xy, , ,in, deg, , ,N, , ,W, grid, , , ,N
Point22,xy, , ,in, deg, , ,N, , ,W, grid, , , ,N
Point23,xy, , ,in, deg, , ,N, , ,W, grid, , , ,N
Point24,xy, , ,in, deg, , ,N, , ,W, grid, , , ,N
Point25,xy, , ,in, deg, , ,N, , ,W, grid, , , ,N
Point26,xy, , ,in, deg, , ,N, , ,W, grid, , , ,N
Point27,xy, , ,in, deg, , ,N, , ,W, grid, , , ,N
Point28,xy, , ,in, deg, , ,N, , ,W, grid, , , ,N
Point29,xy, , ,in, deg, , ,N, , ,W, grid, , , ,N
Point30,xy, , ,in, deg, , ,N, , ,W, grid, , , ,N
Projection Setup, 0.000000000, 45.000000000, 1.000000000, 8500000.00, 0.00,,,,,
Map Feature = MF ; Map Comment = MC These follow if they exist
Track File = TF These follow if they exist
Moving Map Parameters = MM? These follow if they exist
MM0,Yes
MMPNUM,4
MMPXY,1,114,306
MMPXY,2,6612,354
MMPXY,3,6597,4709
MMPXY,4,85,4662
MMPLL,1, 43.999834, 10.666238
MMPLL,2, 44.999969, 10.666536
MMPLL,3, 45.000195, 10.000245
MMPLL,4, 44.000015, 9.999877
MM1B,16.833436
Other Grid Setup
GRGRID,Yes,4 Km,No,16711680,255,4 Km,0,16777215,8,0,Yes,Yes,No,x
MOP,Map Open Position,0,0
IWH,Map Image Width/Height,6760,5015
