OziExplorer Map Data File Version 2.2
c38-14e
c38-14e.jpg
1 ,Map Code,
Pulkovo 1942 (1),WGS 84, 0.0000, 0.0000,WGS 84
Reserved 1
Reserved 2
Magnetic Variation,,,E
Map Projection,Transverse Mercator,PolyCal,No,AutoCalOnly,No,BSBUseWPX,No
Point01,xy, 90, 282,in, deg, 10, 40.0000,N, 43, 0.0000,E, grid, , , ,N
Point02,xy, 6593, 320,in, deg, 10, 40.0000,N, 44, 0.0000,E, grid, , , ,N
Point03,xy, 6580, 4680,in, deg, 10, 0.0000,N, 44, 0.0000,E, grid, , , ,N
Point04,xy, 61, 4645,in, deg, 10, 0.0000,N, 43, 0.0000,E, grid, , , ,N
Point05,xy, 3331, 2484,in, deg, 10, 20.0000,N, 43, 30.0000,E, grid, , , ,N
Point06,xy, 3339, 300,in, deg, 10, 40.0000,N, 43, 30.0000,E, grid, , , ,N
Point07,xy, 75, 2465,in, deg, 10, 20.0000,N, 43, 0.0000,E, grid, , , ,N
Point08,xy, 6586, 2503,in, deg, 10, 20.0000,N, 44, 0.0000,E, grid, , , ,N
Point09,xy, 3322, 4670,in, deg, 10, 0.0000,N, 43, 30.0000,E, grid, , , ,N
Point10,xy, , ,in, deg, , ,N, , ,W, grid, , , ,N
Point11,xy, , ,in, deg, , ,N, , ,W, grid, , , ,N
Point12,xy, , ,in, deg, , ,N, , ,W, grid, , , ,N
Point13,xy, , ,in, deg, , ,N, , ,W, grid, , , ,N
Point14,xy, , ,in, deg, , ,N, , ,W, grid, , , ,N
Point15,xy, , ,in, deg, , ,N, , ,W, grid, , , ,N
Point16,xy, , ,in, deg, , ,N, , ,W, grid, , , ,N
Point17,xy, , ,in, deg, , ,N, , ,W, grid, , , ,N
Point18,xy, , ,in, deg, , ,N, , ,W, grid, , , ,N
Point19,xy, , ,in, deg, , ,N, , ,W, grid, , , ,N
Point20,xy, , ,in, deg, , ,N, , ,W, grid, , , ,N
Point21,xy, , ,in, deg, , ,N, , ,W, grid, , , ,N
Point22,xy, , ,in, deg, , ,N, , ,W, grid, , , ,N
Point23,xy, , ,in, deg, , ,N, , ,W, grid, , , ,N
Point24,xy, , ,in, deg, , ,N, , ,W, grid, , , ,N
Point25,xy, , ,in, deg, , ,N, , ,W, grid, , , ,N
Point26,xy, , ,in, deg, , ,N, , ,W, grid, , , ,N
Point27,xy, , ,in, deg, , ,N, , ,W, grid, , , ,N
Point28,xy, , ,in, deg, , ,N, , ,W, grid, , , ,N
Point29,xy, , ,in, deg, , ,N, , ,W, grid, , , ,N
Point30,xy, , ,in, deg, , ,N, , ,W, grid, , , ,N
Projection Setup, 0.000000000, 45.000000000, 1.000000000, 8500000.00, 0.00,,,,,
Map Feature = MF ; Map Comment = MC These follow if they exist
Track File = TF These follow if they exist
Moving Map Parameters = MM? These follow if they exist
MM0,Yes
MMPNUM,4
MMPXY,1,90,281
MMPXY,2,6594,318
MMPXY,3,6580,4681
MMPXY,4,60,4646
MMPLL,1, 43.000230, 10.666700
MMPLL,2, 44.000215, 10.666842
MMPLL,3, 44.000030, 10.000244
MMPLL,4, 42.999698, 10.000079
MM1B,16.820668
Other Grid Setup
GRGRID,Yes,4 Km,No,16711680,255,4 Km,0,16777215,8,0,Yes,Yes,No,x
MOP,Map Open Position,0,0
IWH,Map Image Width/Height,6737,4994
