OziExplorer Map Data File Version 2.2
c38-13e
c38-13e.jpg
1 ,Map Code,
Pulkovo 1942 (1),WGS 84, 0.0000, 0.0000,WGS 84
Reserved 1
Reserved 2
Magnetic Variation,,,E
Map Projection,Transverse Mercator,PolyCal,No,AutoCalOnly,No,BSBUseWPX,No
Point01,xy, 110, 297,in, deg, 10, 40.0000,N, 42, 0.0000,E, grid, , , ,N
Point02,xy, 6608, 342,in, deg, 10, 40.0000,N, 43, 0.0000,E, grid, , , ,N
Point03,xy, 6595, 4706,in, deg, 10, 0.0000,N, 43, 0.0000,E, grid, , , ,N
Point04,xy, 81, 4663,in, deg, 10, 0.0000,N, 42, 0.0000,E, grid, , , ,N
Point05,xy, 3350, 2504,in, deg, 10, 20.0000,N, 42, 30.0000,E, grid, , , ,N
Point06,xy, 3357, 320,in, deg, 10, 40.0000,N, 42, 30.0000,E, grid, , , ,N
Point07,xy, 96, 2482,in, deg, 10, 20.0000,N, 42, 0.0000,E, grid, , , ,N
Point08,xy, 6602, 2524,in, deg, 10, 20.0000,N, 43, 0.0000,E, grid, , , ,N
Point09,xy, 3340, 4690,in, deg, 10, 0.0000,N, 42, 30.0000,E, grid, , , ,N
Point10,xy, , ,in, deg, , ,N, , ,W, grid, , , ,N
Point11,xy, , ,in, deg, , ,N, , ,W, grid, , , ,N
Point12,xy, , ,in, deg, , ,N, , ,W, grid, , , ,N
Point13,xy, , ,in, deg, , ,N, , ,W, grid, , , ,N
Point14,xy, , ,in, deg, , ,N, , ,W, grid, , , ,N
Point15,xy, , ,in, deg, , ,N, , ,W, grid, , , ,N
Point16,xy, , ,in, deg, , ,N, , ,W, grid, , , ,N
Point17,xy, , ,in, deg, , ,N, , ,W, grid, , , ,N
Point18,xy, , ,in, deg, , ,N, , ,W, grid, , , ,N
Point19,xy, , ,in, deg, , ,N, , ,W, grid, , , ,N
Point20,xy, , ,in, deg, , ,N, , ,W, grid, , , ,N
Point21,xy, , ,in, deg, , ,N, , ,W, grid, , , ,N
Point22,xy, , ,in, deg, , ,N, , ,W, grid, , , ,N
Point23,xy, , ,in, deg, , ,N, , ,W, grid, , , ,N
Point24,xy, , ,in, deg, , ,N, , ,W, grid, , , ,N
Point25,xy, , ,in, deg, , ,N, , ,W, grid, , , ,N
Point26,xy, , ,in, deg, , ,N, , ,W, grid, , , ,N
Point27,xy, , ,in, deg, , ,N, , ,W, grid, , , ,N
Point28,xy, , ,in, deg, , ,N, , ,W, grid, , , ,N
Point29,xy, , ,in, deg, , ,N, , ,W, grid, , , ,N
Point30,xy, , ,in, deg, , ,N, , ,W, grid, , , ,N
Projection Setup, 0.000000000, 45.000000000, 1.000000000, 8500000.00, 0.00,,,,,
Map Feature = MF ; Map Comment = MC These follow if they exist
Track File = TF These follow if they exist
Moving Map Parameters = MM? These follow if they exist
MM0,Yes
MMPNUM,4
MMPXY,1,110,296
MMPXY,2,6609,340
MMPXY,3,6596,4707
MMPXY,4,80,4663
MMPLL,1, 42.000159, 10.666736
MMPLL,2, 43.000146, 10.666874
MMPLL,3, 43.000114, 9.999923
MMPLL,4, 41.999628, 10.000262
MM1B,16.843618
Other Grid Setup
GRGRID,Yes,4 Km,No,16711680,255,4 Km,0,16777215,8,0,Yes,Yes,No,x
MOP,Map Open Position,0,0
IWH,Map Image Width/Height,6753,5082
