OziExplorer Map Data File Version 2.2
c38-13
c38-13.jpg
1 ,Map Code,
Pulkovo 1942 (1),WGS 84, 0.0000, 0.0000,WGS 84
Reserved 1
Reserved 2
Magnetic Variation,,,E
Map Projection,Transverse Mercator,PolyCal,No,AutoCalOnly,No,BSBUseWPX,No
Point01,xy, 117, 131,in, deg, 10, 40.0000,N, 42, 0.0000,E, grid, , , ,N
Point02,xy, 2895, 123,in, deg, 10, 40.0000,N, 43, 0.0000,E, grid, , , ,N
Point03,xy, 2905, 2002,in, deg, 10, 0.0000,N, 43, 0.0000,E, grid, , , ,N
Point04,xy, 120, 2011,in, deg, 10, 0.0000,N, 42, 0.0000,E, grid, , , ,N
Point05,xy, 1509, 1068,in, deg, 10, 20.0000,N, 42, 30.0000,E, grid, , , ,N
Point06,xy, 1505, 129,in, deg, 10, 40.0000,N, 42, 30.0000,E, grid, , , ,N
Point07,xy, 118, 1073,in, deg, 10, 20.0000,N, 42, 0.0000,E, grid, , , ,N
Point08,xy, 2900, 1063,in, deg, 10, 20.0000,N, 43, 0.0000,E, grid, , , ,N
Point09,xy, 1512, 2007,in, deg, 10, 0.0000,N, 42, 30.0000,E, grid, , , ,N
Point10,xy, , ,in, deg, , ,N, , ,W, grid, , , ,N
Point11,xy, , ,in, deg, , ,N, , ,W, grid, , , ,N
Point12,xy, , ,in, deg, , ,N, , ,W, grid, , , ,N
Point13,xy, , ,in, deg, , ,N, , ,W, grid, , , ,N
Point14,xy, , ,in, deg, , ,N, , ,W, grid, , , ,N
Point15,xy, , ,in, deg, , ,N, , ,W, grid, , , ,N
Point16,xy, , ,in, deg, , ,N, , ,W, grid, , , ,N
Point17,xy, , ,in, deg, , ,N, , ,W, grid, , , ,N
Point18,xy, , ,in, deg, , ,N, , ,W, grid, , , ,N
Point19,xy, , ,in, deg, , ,N, , ,W, grid, , , ,N
Point20,xy, , ,in, deg, , ,N, , ,W, grid, , , ,N
Point21,xy, , ,in, deg, , ,N, , ,W, grid, , , ,N
Point22,xy, , ,in, deg, , ,N, , ,W, grid, , , ,N
Point23,xy, , ,in, deg, , ,N, , ,W, grid, , , ,N
Point24,xy, , ,in, deg, , ,N, , ,W, grid, , , ,N
Point25,xy, , ,in, deg, , ,N, , ,W, grid, , , ,N
Point26,xy, , ,in, deg, , ,N, , ,W, grid, , , ,N
Point27,xy, , ,in, deg, , ,N, , ,W, grid, , , ,N
Point28,xy, , ,in, deg, , ,N, , ,W, grid, , , ,N
Point29,xy, , ,in, deg, , ,N, , ,W, grid, , , ,N
Point30,xy, , ,in, deg, , ,N, , ,W, grid, , , ,N
Projection Setup, 0.000000000, 45.000000000, 1.000000000, 8500000.00, 0.00,,,,,
Map Feature = MF ; Map Comment = MC These follow if they exist
Track File = TF These follow if they exist
Moving Map Parameters = MM? These follow if they exist
MM0,Yes
MMPNUM,4
MMPXY,1,115,130
MMPXY,2,2897,122
MMPXY,3,2906,2004
MMPXY,4,119,2011
MMPLL,1, 41.999547, 10.667275
MMPLL,2, 43.000731, 10.667167
MMPLL,3, 43.000507, 9.999193
MMPLL,4, 41.999645, 10.000157
MM1B,39.392968
Other Grid Setup
GRGRID,Yes,4 Km,No,16711680,255,4 Km,0,16777215,8,0,Yes,Yes,No,x
MOP,Map Open Position,0,0
IWH,Map Image Width/Height,3000,2207
