OziExplorer Map Data File Version 2.2
c38-12e
c38-12e.jpg
1 ,Map Code,
Pulkovo 1942 (1),WGS 84, 0.0000, 0.0000,WGS 84
Reserved 1
Reserved 2
Magnetic Variation,,,E
Map Projection,Transverse Mercator,PolyCal,No,AutoCalOnly,No,BSBUseWPX,No
Point01,xy, 87, 306,in, deg, 11, 20.0000,N, 47, 0.0000,E, grid, , , ,N
Point02,xy, 6580, 308,in, deg, 11, 20.0000,N, 48, 0.0000,E, grid, , , ,N
Point03,xy, 6587, 4671,in, deg, 10, 40.0000,N, 48, 0.0000,E, grid, , , ,N
Point04,xy, 83, 4663,in, deg, 10, 40.0000,N, 47, 0.0000,E, grid, , , ,N
Point05,xy, 3334, 2491,in, deg, 11, 0.0000,N, 47, 30.0000,E, grid, , , ,N
Point06,xy, 3333, 306,in, deg, 11, 20.0000,N, 47, 30.0000,E, grid, , , ,N
Point07,xy, 85, 2485,in, deg, 11, 0.0000,N, 47, 0.0000,E, grid, , , ,N
Point08,xy, 6583, 2490,in, deg, 11, 0.0000,N, 48, 0.0000,E, grid, , , ,N
Point09,xy, 3333, 4675,in, deg, 10, 40.0000,N, 47, 30.0000,E, grid, , , ,N
Point10,xy, , ,in, deg, , ,N, , ,W, grid, , , ,N
Point11,xy, , ,in, deg, , ,N, , ,W, grid, , , ,N
Point12,xy, , ,in, deg, , ,N, , ,W, grid, , , ,N
Point13,xy, , ,in, deg, , ,N, , ,W, grid, , , ,N
Point14,xy, , ,in, deg, , ,N, , ,W, grid, , , ,N
Point15,xy, , ,in, deg, , ,N, , ,W, grid, , , ,N
Point16,xy, , ,in, deg, , ,N, , ,W, grid, , , ,N
Point17,xy, , ,in, deg, , ,N, , ,W, grid, , , ,N
Point18,xy, , ,in, deg, , ,N, , ,W, grid, , , ,N
Point19,xy, , ,in, deg, , ,N, , ,W, grid, , , ,N
Point20,xy, , ,in, deg, , ,N, , ,W, grid, , , ,N
Point21,xy, , ,in, deg, , ,N, , ,W, grid, , , ,N
Point22,xy, , ,in, deg, , ,N, , ,W, grid, , , ,N
Point23,xy, , ,in, deg, , ,N, , ,W, grid, , , ,N
Point24,xy, , ,in, deg, , ,N, , ,W, grid, , , ,N
Point25,xy, , ,in, deg, , ,N, , ,W, grid, , , ,N
Point26,xy, , ,in, deg, , ,N, , ,W, grid, , , ,N
Point27,xy, , ,in, deg, , ,N, , ,W, grid, , , ,N
Point28,xy, , ,in, deg, , ,N, , ,W, grid, , , ,N
Point29,xy, , ,in, deg, , ,N, , ,W, grid, , , ,N
Point30,xy, , ,in, deg, , ,N, , ,W, grid, , , ,N
Projection Setup, 0.000000000, 45.000000000, 1.000000000, 8500000.00, 0.00,,,,,
Map Feature = MF ; Map Comment = MC These follow if they exist
Track File = TF These follow if they exist
Moving Map Parameters = MM? These follow if they exist
MM0,Yes
MMPNUM,4
MMPXY,1,85,304
MMPXY,2,6582,306
MMPXY,3,6588,4672
MMPXY,4,82,4663
MMPLL,1, 46.999537, 11.333364
MMPLL,2, 48.000465, 11.333576
MMPLL,3, 48.000107, 10.666707
MMPLL,4, 47.000047, 10.667071
MM1B,16.826197
Other Grid Setup
GRGRID,Yes,4 Km,No,16711680,255,4 Km,0,16777215,8,0,Yes,Yes,No,x
MOP,Map Open Position,0,0
IWH,Map Image Width/Height,6684,4958
