OziExplorer Map Data File Version 2.2
c38-11e
c38-11e.jpg
1 ,Map Code,
Pulkovo 1942 (1),WGS 84, 0.0000, 0.0000,WGS 84
Reserved 1
Reserved 2
Magnetic Variation,,,E
Map Projection,Transverse Mercator,PolyCal,No,AutoCalOnly,No,BSBUseWPX,No
Point01,xy, 116, 324,in, deg, 11, 20.0000,N, 46, 0.0000,E, grid, , , ,N
Point02,xy, 6602, 358,in, deg, 11, 20.0000,N, 47, 0.0000,E, grid, , , ,N
Point03,xy, 6589, 4712,in, deg, 10, 40.0000,N, 47, 0.0000,E, grid, , , ,N
Point04,xy, 88, 4679,in, deg, 10, 40.0000,N, 46, 0.0000,E, grid, , , ,N
Point05,xy, 3347, 2519,in, deg, 11, 0.0000,N, 46, 30.0000,E, grid, , , ,N
Point06,xy, 3357, 341,in, deg, 11, 20.0000,N, 46, 30.0000,E, grid, , , ,N
Point07,xy, 103, 2503,in, deg, 11, 0.0000,N, 46, 0.0000,E, grid, , , ,N
Point08,xy, 6595, 2535,in, deg, 11, 0.0000,N, 47, 0.0000,E, grid, , , ,N
Point09,xy, 3341, 4704,in, deg, 10, 40.0000,N, 46, 30.0000,E, grid, , , ,N
Point10,xy, , ,in, deg, , ,N, , ,W, grid, , , ,N
Point11,xy, , ,in, deg, , ,N, , ,W, grid, , , ,N
Point12,xy, , ,in, deg, , ,N, , ,W, grid, , , ,N
Point13,xy, , ,in, deg, , ,N, , ,W, grid, , , ,N
Point14,xy, , ,in, deg, , ,N, , ,W, grid, , , ,N
Point15,xy, , ,in, deg, , ,N, , ,W, grid, , , ,N
Point16,xy, , ,in, deg, , ,N, , ,W, grid, , , ,N
Point17,xy, , ,in, deg, , ,N, , ,W, grid, , , ,N
Point18,xy, , ,in, deg, , ,N, , ,W, grid, , , ,N
Point19,xy, , ,in, deg, , ,N, , ,W, grid, , , ,N
Point20,xy, , ,in, deg, , ,N, , ,W, grid, , , ,N
Point21,xy, , ,in, deg, , ,N, , ,W, grid, , , ,N
Point22,xy, , ,in, deg, , ,N, , ,W, grid, , , ,N
Point23,xy, , ,in, deg, , ,N, , ,W, grid, , , ,N
Point24,xy, , ,in, deg, , ,N, , ,W, grid, , , ,N
Point25,xy, , ,in, deg, , ,N, , ,W, grid, , , ,N
Point26,xy, , ,in, deg, , ,N, , ,W, grid, , , ,N
Point27,xy, , ,in, deg, , ,N, , ,W, grid, , , ,N
Point28,xy, , ,in, deg, , ,N, , ,W, grid, , , ,N
Point29,xy, , ,in, deg, , ,N, , ,W, grid, , , ,N
Point30,xy, , ,in, deg, , ,N, , ,W, grid, , , ,N
Projection Setup, 0.000000000, 45.000000000, 1.000000000, 8500000.00, 0.00,,,,,
Map Feature = MF ; Map Comment = MC These follow if they exist
Track File = TF These follow if they exist
Moving Map Parameters = MM? These follow if they exist
MM0,Yes
MMPNUM,4
MMPXY,1,115,322
MMPXY,2,6603,356
MMPXY,3,6589,4712
MMPXY,4,87,4680
MMPLL,1, 45.999936, 11.333616
MMPLL,2, 47.000298, 11.333311
MMPLL,3, 46.999943, 10.667008
MMPLL,4, 45.999676, 10.666700
MM1B,16.829740
Other Grid Setup
GRGRID,Yes,4 Km,No,16711680,255,4 Km,0,16777215,8,0,Yes,Yes,No,x
MOP,Map Open Position,0,0
IWH,Map Image Width/Height,6761,5016
