OziExplorer Map Data File Version 2.2
c38-08e
c38-08e.jpg
1 ,Map Code,
Pulkovo 1942 (1),WGS 84, 0.0000, 0.0000,WGS 84
Reserved 1
Reserved 2
Magnetic Variation,,,E
Map Projection,Transverse Mercator,PolyCal,No,AutoCalOnly,No,BSBUseWPX,No
Point01,xy, 106, 285,in, deg, 11, 20.0000,N, 43, 0.0000,E, grid, , , ,N
Point02,xy, 6591, 369,in, deg, 11, 20.0000,N, 44, 0.0000,E, grid, , , ,N
Point03,xy, 6549, 4727,in, deg, 10, 40.0000,N, 44, 0.0000,E, grid, , , ,N
Point04,xy, 50, 4645,in, deg, 10, 40.0000,N, 43, 0.0000,E, grid, , , ,N
Point05,xy, 3323, 2509,in, deg, 11, 0.0000,N, 43, 30.0000,E, grid, , , ,N
Point06,xy, 3347, 325,in, deg, 11, 20.0000,N, 43, 30.0000,E, grid, , , ,N
Point07,xy, 79, 2466,in, deg, 11, 0.0000,N, 43, 0.0000,E, grid, , , ,N
Point08,xy, 6570, 2548,in, deg, 11, 0.0000,N, 44, 0.0000,E, grid, , , ,N
Point09,xy, 3300, 4691,in, deg, 10, 40.0000,N, 43, 30.0000,E, grid, , , ,N
Point10,xy, , ,in, deg, , ,N, , ,W, grid, , , ,N
Point11,xy, , ,in, deg, , ,N, , ,W, grid, , , ,N
Point12,xy, , ,in, deg, , ,N, , ,W, grid, , , ,N
Point13,xy, , ,in, deg, , ,N, , ,W, grid, , , ,N
Point14,xy, , ,in, deg, , ,N, , ,W, grid, , , ,N
Point15,xy, , ,in, deg, , ,N, , ,W, grid, , , ,N
Point16,xy, , ,in, deg, , ,N, , ,W, grid, , , ,N
Point17,xy, , ,in, deg, , ,N, , ,W, grid, , , ,N
Point18,xy, , ,in, deg, , ,N, , ,W, grid, , , ,N
Point19,xy, , ,in, deg, , ,N, , ,W, grid, , , ,N
Point20,xy, , ,in, deg, , ,N, , ,W, grid, , , ,N
Point21,xy, , ,in, deg, , ,N, , ,W, grid, , , ,N
Point22,xy, , ,in, deg, , ,N, , ,W, grid, , , ,N
Point23,xy, , ,in, deg, , ,N, , ,W, grid, , , ,N
Point24,xy, , ,in, deg, , ,N, , ,W, grid, , , ,N
Point25,xy, , ,in, deg, , ,N, , ,W, grid, , , ,N
Point26,xy, , ,in, deg, , ,N, , ,W, grid, , , ,N
Point27,xy, , ,in, deg, , ,N, , ,W, grid, , , ,N
Point28,xy, , ,in, deg, , ,N, , ,W, grid, , , ,N
Point29,xy, , ,in, deg, , ,N, , ,W, grid, , , ,N
Point30,xy, , ,in, deg, , ,N, , ,W, grid, , , ,N
Projection Setup, 0.000000000, 45.000000000, 1.000000000, 8500000.00, 0.00,,,,,
Map Feature = MF ; Map Comment = MC These follow if they exist
Track File = TF These follow if they exist
Moving Map Parameters = MM? These follow if they exist
MM0,Yes
MMPNUM,4
MMPXY,1,105,284
MMPXY,2,6592,367
MMPXY,3,6550,4727
MMPXY,4,50,4646
MMPLL,1, 42.999871, 11.333309
MMPLL,2, 44.000283, 11.333397
MMPLL,3, 44.000132, 10.666806
MMPLL,4, 42.999970, 10.666683
MM1B,16.832701
Other Grid Setup
GRGRID,Yes,4 Km,No,16711680,255,4 Km,0,16777215,8,0,Yes,Yes,No,x
MOP,Map Open Position,0,0
IWH,Map Image Width/Height,6698,4882
