OziExplorer Map Data File Version 2.2
c38-08
c38-08.jpg
1 ,Map Code,
Pulkovo 1942 (1),WGS 84, 0.0000, 0.0000,WGS 84
Reserved 1
Reserved 2
Magnetic Variation,,,E
Map Projection,Transverse Mercator,PolyCal,No,AutoCalOnly,No,BSBUseWPX,No
Point01,xy, 93, 139,in, deg, 11, 20.0000,N, 43, 0.0000,E, grid, , , ,N
Point02,xy, 2877, 119,in, deg, 11, 20.0000,N, 44, 0.0000,E, grid, , , ,N
Point03,xy, 2893, 2003,in, deg, 10, 40.0000,N, 44, 0.0000,E, grid, , , ,N
Point04,xy, 105, 2024,in, deg, 10, 40.0000,N, 43, 0.0000,E, grid, , , ,N
Point05,xy, 1491, 1073,in, deg, 11, 0.0000,N, 43, 30.0000,E, grid, , , ,N
Point06,xy, 1485, 130,in, deg, 11, 20.0000,N, 43, 30.0000,E, grid, , , ,N
Point07,xy, 99, 1083,in, deg, 11, 0.0000,N, 43, 0.0000,E, grid, , , ,N
Point08,xy, 2885, 1062,in, deg, 11, 0.0000,N, 44, 0.0000,E, grid, , , ,N
Point09,xy, 1498, 2014,in, deg, 10, 40.0000,N, 43, 30.0000,E, grid, , , ,N
Point10,xy, , ,in, deg, , ,N, , ,W, grid, , , ,N
Point11,xy, , ,in, deg, , ,N, , ,W, grid, , , ,N
Point12,xy, , ,in, deg, , ,N, , ,W, grid, , , ,N
Point13,xy, , ,in, deg, , ,N, , ,W, grid, , , ,N
Point14,xy, , ,in, deg, , ,N, , ,W, grid, , , ,N
Point15,xy, , ,in, deg, , ,N, , ,W, grid, , , ,N
Point16,xy, , ,in, deg, , ,N, , ,W, grid, , , ,N
Point17,xy, , ,in, deg, , ,N, , ,W, grid, , , ,N
Point18,xy, , ,in, deg, , ,N, , ,W, grid, , , ,N
Point19,xy, , ,in, deg, , ,N, , ,W, grid, , , ,N
Point20,xy, , ,in, deg, , ,N, , ,W, grid, , , ,N
Point21,xy, , ,in, deg, , ,N, , ,W, grid, , , ,N
Point22,xy, , ,in, deg, , ,N, , ,W, grid, , , ,N
Point23,xy, , ,in, deg, , ,N, , ,W, grid, , , ,N
Point24,xy, , ,in, deg, , ,N, , ,W, grid, , , ,N
Point25,xy, , ,in, deg, , ,N, , ,W, grid, , , ,N
Point26,xy, , ,in, deg, , ,N, , ,W, grid, , , ,N
Point27,xy, , ,in, deg, , ,N, , ,W, grid, , , ,N
Point28,xy, , ,in, deg, , ,N, , ,W, grid, , , ,N
Point29,xy, , ,in, deg, , ,N, , ,W, grid, , , ,N
Point30,xy, , ,in, deg, , ,N, , ,W, grid, , , ,N
Projection Setup, 0.000000000, 45.000000000, 1.000000000, 8500000.00, 0.00,,,,,
Map Feature = MF ; Map Comment = MC These follow if they exist
Track File = TF These follow if they exist
Moving Map Parameters = MM? These follow if they exist
MM0,Yes
MMPNUM,4
MMPXY,1,92,138
MMPXY,2,2879,118
MMPXY,3,2895,2005
MMPXY,4,104,2025
MMPLL,1, 42.999469, 11.333843
MMPLL,2, 44.000959, 11.333752
MMPLL,3, 44.000662, 10.665996
MMPLL,4, 42.999990, 10.666394
MM1B,39.221403
Other Grid Setup
GRGRID,Yes,4 Km,No,16711680,255,4 Km,0,16777215,8,0,Yes,Yes,No,x
MOP,Map Open Position,0,0
IWH,Map Image Width/Height,3000,2204
