OziExplorer Map Data File Version 2.2
c38-07e
c38-07e.jpg
1 ,Map Code,
Pulkovo 1942 (1),WGS 84, 0.0000, 0.0000,WGS 84
Reserved 1
Reserved 2
Magnetic Variation,,,E
Map Projection,Transverse Mercator,PolyCal,No,AutoCalOnly,No,BSBUseWPX,No
Point01,xy, 95, 289,in, deg, 11, 20.0000,N, 42, 0.0000,E, grid, , , ,N
Point02,xy, 6592, 328,in, deg, 11, 20.0000,N, 43, 0.0000,E, grid, , , ,N
Point03,xy, 6576, 4693,in, deg, 10, 40.0000,N, 43, 0.0000,E, grid, , , ,N
Point04,xy, 64, 4652,in, deg, 10, 40.0000,N, 42, 0.0000,E, grid, , , ,N
Point05,xy, 3331, 2488,in, deg, 11, 0.0000,N, 42, 30.0000,E, grid, , , ,N
Point06,xy, 3340, 306,in, deg, 11, 20.0000,N, 42, 30.0000,E, grid, , , ,N
Point07,xy, 81, 2467,in, deg, 11, 0.0000,N, 42, 0.0000,E, grid, , , ,N
Point08,xy, 6583, 2510,in, deg, 11, 0.0000,N, 43, 0.0000,E, grid, , , ,N
Point09,xy, 3323, 4678,in, deg, 10, 40.0000,N, 42, 30.0000,E, grid, , , ,N
Point10,xy, , ,in, deg, , ,N, , ,W, grid, , , ,N
Point11,xy, , ,in, deg, , ,N, , ,W, grid, , , ,N
Point12,xy, , ,in, deg, , ,N, , ,W, grid, , , ,N
Point13,xy, , ,in, deg, , ,N, , ,W, grid, , , ,N
Point14,xy, , ,in, deg, , ,N, , ,W, grid, , , ,N
Point15,xy, , ,in, deg, , ,N, , ,W, grid, , , ,N
Point16,xy, , ,in, deg, , ,N, , ,W, grid, , , ,N
Point17,xy, , ,in, deg, , ,N, , ,W, grid, , , ,N
Point18,xy, , ,in, deg, , ,N, , ,W, grid, , , ,N
Point19,xy, , ,in, deg, , ,N, , ,W, grid, , , ,N
Point20,xy, , ,in, deg, , ,N, , ,W, grid, , , ,N
Point21,xy, , ,in, deg, , ,N, , ,W, grid, , , ,N
Point22,xy, , ,in, deg, , ,N, , ,W, grid, , , ,N
Point23,xy, , ,in, deg, , ,N, , ,W, grid, , , ,N
Point24,xy, , ,in, deg, , ,N, , ,W, grid, , , ,N
Point25,xy, , ,in, deg, , ,N, , ,W, grid, , , ,N
Point26,xy, , ,in, deg, , ,N, , ,W, grid, , , ,N
Point27,xy, , ,in, deg, , ,N, , ,W, grid, , , ,N
Point28,xy, , ,in, deg, , ,N, , ,W, grid, , , ,N
Point29,xy, , ,in, deg, , ,N, , ,W, grid, , , ,N
Point30,xy, , ,in, deg, , ,N, , ,W, grid, , , ,N
Projection Setup, 0.000000000, 45.000000000, 1.000000000, 8500000.00, 0.00,,,,,
Map Feature = MF ; Map Comment = MC These follow if they exist
Track File = TF These follow if they exist
Moving Map Parameters = MM? These follow if they exist
MM0,Yes
MMPNUM,4
MMPXY,1,93,288
MMPXY,2,6593,327
MMPXY,3,6578,4693
MMPXY,4,64,4652
MMPLL,1, 41.999837, 11.332807
MMPLL,2, 43.000403, 11.333355
MMPLL,3, 43.000250, 10.666558
MMPLL,4, 41.999782, 10.666794
MM1B,16.812870
Other Grid Setup
GRGRID,Yes,4 Km,No,16711680,255,4 Km,0,16777215,8,0,Yes,Yes,No,x
MOP,Map Open Position,0,0
IWH,Map Image Width/Height,6695,4919
