OziExplorer Map Data File Version 2.2
c38-02e
c38-02e.jpg
1 ,Map Code,
Pulkovo 1942 (1),WGS 84, 0.0000, 0.0000,WGS 84
Reserved 1
Reserved 2
Magnetic Variation,,,E
Map Projection,Transverse Mercator,PolyCal,No,AutoCalOnly,No,BSBUseWPX,No
Point01,xy, 87, 294,in, deg, 12, 0.0000,N, 43, 0.0000,E, grid, , , ,N
Point02,xy, 6533, 327,in, deg, 12, 0.0000,N, 44, 0.0000,E, grid, , , ,N
Point03,xy, 6518, 4697,in, deg, 11, 20.0000,N, 44, 0.0000,E, grid, , , ,N
Point04,xy, 58, 4665,in, deg, 11, 20.0000,N, 43, 0.0000,E, grid, , , ,N
Point05,xy, 3295, 2497,in, deg, 11, 40.0000,N, 43, 30.0000,E, grid, , , ,N
Point06,xy, 3307, 308,in, deg, 12, 0.0000,N, 43, 30.0000,E, grid, , , ,N
Point07,xy, 72, 2479,in, deg, 11, 40.0000,N, 43, 0.0000,E, grid, , , ,N
Point08,xy, 6524, 2513,in, deg, 11, 40.0000,N, 44, 0.0000,E, grid, , , ,N
Point09,xy, 3288, 4687,in, deg, 11, 20.0000,N, 43, 30.0000,E, grid, , , ,N
Point10,xy, , ,in, deg, , ,N, , ,W, grid, , , ,N
Point11,xy, , ,in, deg, , ,N, , ,W, grid, , , ,N
Point12,xy, , ,in, deg, , ,N, , ,W, grid, , , ,N
Point13,xy, , ,in, deg, , ,N, , ,W, grid, , , ,N
Point14,xy, , ,in, deg, , ,N, , ,W, grid, , , ,N
Point15,xy, , ,in, deg, , ,N, , ,W, grid, , , ,N
Point16,xy, , ,in, deg, , ,N, , ,W, grid, , , ,N
Point17,xy, , ,in, deg, , ,N, , ,W, grid, , , ,N
Point18,xy, , ,in, deg, , ,N, , ,W, grid, , , ,N
Point19,xy, , ,in, deg, , ,N, , ,W, grid, , , ,N
Point20,xy, , ,in, deg, , ,N, , ,W, grid, , , ,N
Point21,xy, , ,in, deg, , ,N, , ,W, grid, , , ,N
Point22,xy, , ,in, deg, , ,N, , ,W, grid, , , ,N
Point23,xy, , ,in, deg, , ,N, , ,W, grid, , , ,N
Point24,xy, , ,in, deg, , ,N, , ,W, grid, , , ,N
Point25,xy, , ,in, deg, , ,N, , ,W, grid, , , ,N
Point26,xy, , ,in, deg, , ,N, , ,W, grid, , , ,N
Point27,xy, , ,in, deg, , ,N, , ,W, grid, , , ,N
Point28,xy, , ,in, deg, , ,N, , ,W, grid, , , ,N
Point29,xy, , ,in, deg, , ,N, , ,W, grid, , , ,N
Point30,xy, , ,in, deg, , ,N, , ,W, grid, , , ,N
Projection Setup, 0.000000000, 45.000000000, 1.000000000, 8500000.00, 0.00,,,,,
Map Feature = MF ; Map Comment = MC These follow if they exist
Track File = TF These follow if they exist
Moving Map Parameters = MM? These follow if they exist
MM0,Yes
MMPNUM,4
MMPXY,1,85,293
MMPXY,2,6535,326
MMPXY,3,6519,4698
MMPXY,4,58,4667
MMPLL,1, 42.999849, 11.999804
MMPLL,2, 44.000636, 11.999948
MMPLL,3, 44.000215, 11.333350
MMPLL,4, 43.000114, 11.333186
MM1B,16.896538
Other Grid Setup
GRGRID,Yes,4 Km,No,16711680,255,4 Km,0,16777215,8,0,Yes,Yes,No,x
MOP,Map Open Position,0,0
IWH,Map Image Width/Height,6602,4999
