OziExplorer Map Data File Version 2.2
c37-36
c37-36.jpg
1 ,Map Code,
Pulkovo 1942 (1),WGS 84, 0.0000, 0.0000,WGS 84
Reserved 1
Reserved 2
Magnetic Variation,,,E
Map Projection,Transverse Mercator,PolyCal,No,AutoCalOnly,No,BSBUseWPX,No
Point01,xy, 142, 248,in, deg, 8, 40.0000,N, 41, 0.0000,E, grid, , , ,N
Point02,xy, 6680, 269,in, deg, 8, 40.0000,N, 42, 0.0000,E, grid, , , ,N
Point03,xy, 6677, 4638,in, deg, 8, 0.0000,N, 42, 0.0000,E, grid, , , ,N
Point04,xy, 125, 4613,in, deg, 8, 0.0000,N, 41, 0.0000,E, grid, , , ,N
Point05,xy, 3407, 2447,in, deg, 8, 20.0000,N, 41, 30.0000,E, grid, , , ,N
Point06,xy, 3410, 258,in, deg, 8, 40.0000,N, 41, 30.0000,E, grid, , , ,N
Point07,xy, 134, 2431,in, deg, 8, 20.0000,N, 41, 0.0000,E, grid, , , ,N
Point08,xy, 6679, 2453,in, deg, 8, 20.0000,N, 42, 0.0000,E, grid, , , ,N
Point09,xy, 3402, 4634,in, deg, 8, 0.0000,N, 41, 30.0000,E, grid, , , ,N
Point10,xy, , ,in, deg, , ,N, , ,W, grid, , , ,N
Point11,xy, , ,in, deg, , ,N, , ,W, grid, , , ,N
Point12,xy, , ,in, deg, , ,N, , ,W, grid, , , ,N
Point13,xy, , ,in, deg, , ,N, , ,W, grid, , , ,N
Point14,xy, , ,in, deg, , ,N, , ,W, grid, , , ,N
Point15,xy, , ,in, deg, , ,N, , ,W, grid, , , ,N
Point16,xy, , ,in, deg, , ,N, , ,W, grid, , , ,N
Point17,xy, , ,in, deg, , ,N, , ,W, grid, , , ,N
Point18,xy, , ,in, deg, , ,N, , ,W, grid, , , ,N
Point19,xy, , ,in, deg, , ,N, , ,W, grid, , , ,N
Point20,xy, , ,in, deg, , ,N, , ,W, grid, , , ,N
Point21,xy, , ,in, deg, , ,N, , ,W, grid, , , ,N
Point22,xy, , ,in, deg, , ,N, , ,W, grid, , , ,N
Point23,xy, , ,in, deg, , ,N, , ,W, grid, , , ,N
Point24,xy, , ,in, deg, , ,N, , ,W, grid, , , ,N
Point25,xy, , ,in, deg, , ,N, , ,W, grid, , , ,N
Point26,xy, , ,in, deg, , ,N, , ,W, grid, , , ,N
Point27,xy, , ,in, deg, , ,N, , ,W, grid, , , ,N
Point28,xy, , ,in, deg, , ,N, , ,W, grid, , , ,N
Point29,xy, , ,in, deg, , ,N, , ,W, grid, , , ,N
Point30,xy, , ,in, deg, , ,N, , ,W, grid, , , ,N
Projection Setup, 0.000000000, 39.000000000, 1.000000000, 7500000.00, 0.00,,,,,
Map Feature = MF ; Map Comment = MC These follow if they exist
Track File = TF These follow if they exist
Moving Map Parameters = MM? These follow if they exist
MM0,Yes
MMPNUM,4
MMPXY,1,142,247
MMPXY,2,6681,268
MMPXY,3,6676,4640
MMPXY,4,124,4615
MMPLL,1, 41.000108, 8.666701
MMPLL,2, 42.000044, 8.666701
MMPLL,3, 41.999859, 7.999991
MMPLL,4, 40.999631, 8.000092
MM1B,16.838459
Other Grid Setup
GRGRID,Yes,4 Km,No,16711680,255,4 Km,0,16777215,8,0,Yes,Yes,No,x
MOP,Map Open Position,0,0
IWH,Map Image Width/Height,6817,4938
