OziExplorer Map Data File Version 2.2
c37-32e
c37-32e.jpg
1 ,Map Code,
Pulkovo 1942 (1),WGS 84, 0.0000, 0.0000,WGS 84
Reserved 1
Reserved 2
Magnetic Variation,,,E
Map Projection,Transverse Mercator,PolyCal,No,AutoCalOnly,No,BSBUseWPX,No
Point01,xy, 126, 360,in, deg, 8, 40.0000,N, 37, 0.0000,E, grid, , , ,N
Point02,xy, 6656, 348,in, deg, 8, 40.0000,N, 38, 0.0000,E, grid, , , ,N
Point03,xy, 6669, 4710,in, deg, 8, 0.0000,N, 38, 0.0000,E, grid, , , ,N
Point04,xy, 128, 4719,in, deg, 8, 0.0000,N, 37, 0.0000,E, grid, , , ,N
Point05,xy, 3394, 2538,in, deg, 8, 20.0000,N, 37, 30.0000,E, grid, , , ,N
Point06,xy, 3388, 354,in, deg, 8, 40.0000,N, 37, 30.0000,E, grid, , , ,N
Point07,xy, 127, 2540,in, deg, 8, 20.0000,N, 37, 0.0000,E, grid, , , ,N
Point08,xy, 6664, 2530,in, deg, 8, 20.0000,N, 38, 0.0000,E, grid, , , ,N
Point09,xy, 3400, 4720,in, deg, 8, 0.0000,N, 37, 30.0000,E, grid, , , ,N
Point10,xy, , ,in, deg, , ,N, , ,W, grid, , , ,N
Point11,xy, , ,in, deg, , ,N, , ,W, grid, , , ,N
Point12,xy, , ,in, deg, , ,N, , ,W, grid, , , ,N
Point13,xy, , ,in, deg, , ,N, , ,W, grid, , , ,N
Point14,xy, , ,in, deg, , ,N, , ,W, grid, , , ,N
Point15,xy, , ,in, deg, , ,N, , ,W, grid, , , ,N
Point16,xy, , ,in, deg, , ,N, , ,W, grid, , , ,N
Point17,xy, , ,in, deg, , ,N, , ,W, grid, , , ,N
Point18,xy, , ,in, deg, , ,N, , ,W, grid, , , ,N
Point19,xy, , ,in, deg, , ,N, , ,W, grid, , , ,N
Point20,xy, , ,in, deg, , ,N, , ,W, grid, , , ,N
Point21,xy, , ,in, deg, , ,N, , ,W, grid, , , ,N
Point22,xy, , ,in, deg, , ,N, , ,W, grid, , , ,N
Point23,xy, , ,in, deg, , ,N, , ,W, grid, , , ,N
Point24,xy, , ,in, deg, , ,N, , ,W, grid, , , ,N
Point25,xy, , ,in, deg, , ,N, , ,W, grid, , , ,N
Point26,xy, , ,in, deg, , ,N, , ,W, grid, , , ,N
Point27,xy, , ,in, deg, , ,N, , ,W, grid, , , ,N
Point28,xy, , ,in, deg, , ,N, , ,W, grid, , , ,N
Point29,xy, , ,in, deg, , ,N, , ,W, grid, , , ,N
Point30,xy, , ,in, deg, , ,N, , ,W, grid, , , ,N
Projection Setup, 0.000000000, 39.000000000, 1.000000000, 7500000.00, 0.00,,,,,
Map Feature = MF ; Map Comment = MC These follow if they exist
Track File = TF These follow if they exist
Moving Map Parameters = MM? These follow if they exist
MM0,Yes
MMPNUM,4
MMPXY,1,125,358
MMPXY,2,6658,347
MMPXY,3,6670,4711
MMPXY,4,126,4720
MMPLL,1, 37.000018, 8.666702
MMPLL,2, 38.000413, 8.666954
MMPLL,3, 38.000023, 7.999890
MMPLL,4, 36.999641, 8.000246
MM1B,16.852078
Other Grid Setup
GRGRID,Yes,4 Km,No,16711680,255,4 Km,0,16777215,8,0,Yes,Yes,No,x
MOP,Map Open Position,0,0
IWH,Map Image Width/Height,6775,4991
