OziExplorer Map Data File Version 2.2
c37-32
c37-32.jpg
1 ,Map Code,
Pulkovo 1942 (1),WGS 84, 0.0000, 0.0000,WGS 84
Reserved 1
Reserved 2
Magnetic Variation,,,E
Map Projection,Transverse Mercator,PolyCal,No,AutoCalOnly,No,BSBUseWPX,No
Point01,xy, 279, 249,in, deg, 8, 40.0000,N, 37, 0.0000,E, grid, , , ,N
Point02,xy, 6749, 257,in, deg, 8, 40.0000,N, 38, 0.0000,E, grid, , , ,N
Point03,xy, 6731, 4622,in, deg, 8, 0.0000,N, 38, 0.0000,E, grid, , , ,N
Point04,xy, 248, 4615,in, deg, 8, 0.0000,N, 37, 0.0000,E, grid, , , ,N
Point05,xy, 3500, 2438,in, deg, 8, 20.0000,N, 37, 30.0000,E, grid, , , ,N
Point06,xy, 3513, 255,in, deg, 8, 40.0000,N, 37, 30.0000,E, grid, , , ,N
Point07,xy, 267, 2432,in, deg, 8, 20.0000,N, 37, 0.0000,E, grid, , , ,N
Point08,xy, 6739, 2439,in, deg, 8, 20.0000,N, 38, 0.0000,E, grid, , , ,N
Point09,xy, 3487, 4622,in, deg, 8, 0.0000,N, 37, 30.0000,E, grid, , , ,N
Point10,xy, , ,in, deg, , ,N, , ,W, grid, , , ,N
Point11,xy, , ,in, deg, , ,N, , ,W, grid, , , ,N
Point12,xy, , ,in, deg, , ,N, , ,W, grid, , , ,N
Point13,xy, , ,in, deg, , ,N, , ,W, grid, , , ,N
Point14,xy, , ,in, deg, , ,N, , ,W, grid, , , ,N
Point15,xy, , ,in, deg, , ,N, , ,W, grid, , , ,N
Point16,xy, , ,in, deg, , ,N, , ,W, grid, , , ,N
Point17,xy, , ,in, deg, , ,N, , ,W, grid, , , ,N
Point18,xy, , ,in, deg, , ,N, , ,W, grid, , , ,N
Point19,xy, , ,in, deg, , ,N, , ,W, grid, , , ,N
Point20,xy, , ,in, deg, , ,N, , ,W, grid, , , ,N
Point21,xy, , ,in, deg, , ,N, , ,W, grid, , , ,N
Point22,xy, , ,in, deg, , ,N, , ,W, grid, , , ,N
Point23,xy, , ,in, deg, , ,N, , ,W, grid, , , ,N
Point24,xy, , ,in, deg, , ,N, , ,W, grid, , , ,N
Point25,xy, , ,in, deg, , ,N, , ,W, grid, , , ,N
Point26,xy, , ,in, deg, , ,N, , ,W, grid, , , ,N
Point27,xy, , ,in, deg, , ,N, , ,W, grid, , , ,N
Point28,xy, , ,in, deg, , ,N, , ,W, grid, , , ,N
Point29,xy, , ,in, deg, , ,N, , ,W, grid, , , ,N
Point30,xy, , ,in, deg, , ,N, , ,W, grid, , , ,N
Projection Setup, 0.000000000, 39.000000000, 1.000000000, 7500000.00, 0.00,,,,,
Map Feature = MF ; Map Comment = MC These follow if they exist
Track File = TF These follow if they exist
Moving Map Parameters = MM? These follow if they exist
MM0,Yes
MMPNUM,4
MMPXY,1,278,247
MMPXY,2,6750,255
MMPXY,3,6732,4623
MMPXY,4,247,4616
MMPLL,1, 36.999821, 8.666923
MMPLL,2, 38.000212, 8.666971
MMPLL,3, 38.000447, 7.999857
MMPLL,4, 36.999745, 7.999955
MM1B,17.010958
Other Grid Setup
GRGRID,Yes,4 Km,No,16711680,255,4 Km,0,16777215,8,0,Yes,Yes,No,x
MOP,Map Open Position,0,0
IWH,Map Image Width/Height,6949,5100
