OziExplorer Map Data File Version 2.2
c36-08
c36-08.jpg
1 ,Map Code,
Pulkovo 1942 (1),WGS 84, 0.0000, 0.0000,WGS 84
Reserved 1
Reserved 2
Magnetic Variation,,,E
Map Projection,Transverse Mercator,PolyCal,No,AutoCalOnly,No,BSBUseWPX,No
Point01,xy, 132, 300,in, deg, 11, 20.0000,N, 31, 0.0000,E, grid, , , ,N
Point02,xy, 6590, 315,in, deg, 11, 20.0000,N, 32, 0.0000,E, grid, , , ,N
Point03,xy, 6593, 4686,in, deg, 10, 40.0000,N, 32, 0.0000,E, grid, , , ,N
Point04,xy, 117, 4670,in, deg, 10, 40.0000,N, 31, 0.0000,E, grid, , , ,N
Point05,xy, 3359, 2498,in, deg, 11, 0.0000,N, 31, 30.0000,E, grid, , , ,N
Point06,xy, 3360, 308,in, deg, 11, 20.0000,N, 31, 30.0000,E, grid, , , ,N
Point07,xy, 126, 2486,in, deg, 11, 0.0000,N, 31, 0.0000,E, grid, , , ,N
Point08,xy, 6591, 2501,in, deg, 11, 0.0000,N, 32, 0.0000,E, grid, , , ,N
Point09,xy, 3357, 4685,in, deg, 10, 40.0000,N, 31, 30.0000,E, grid, , , ,N
Point10,xy, , ,in, deg, , ,N, , ,W, grid, , , ,N
Point11,xy, , ,in, deg, , ,N, , ,W, grid, , , ,N
Point12,xy, , ,in, deg, , ,N, , ,W, grid, , , ,N
Point13,xy, , ,in, deg, , ,N, , ,W, grid, , , ,N
Point14,xy, , ,in, deg, , ,N, , ,W, grid, , , ,N
Point15,xy, , ,in, deg, , ,N, , ,W, grid, , , ,N
Point16,xy, , ,in, deg, , ,N, , ,W, grid, , , ,N
Point17,xy, , ,in, deg, , ,N, , ,W, grid, , , ,N
Point18,xy, , ,in, deg, , ,N, , ,W, grid, , , ,N
Point19,xy, , ,in, deg, , ,N, , ,W, grid, , , ,N
Point20,xy, , ,in, deg, , ,N, , ,W, grid, , , ,N
Point21,xy, , ,in, deg, , ,N, , ,W, grid, , , ,N
Point22,xy, , ,in, deg, , ,N, , ,W, grid, , , ,N
Point23,xy, , ,in, deg, , ,N, , ,W, grid, , , ,N
Point24,xy, , ,in, deg, , ,N, , ,W, grid, , , ,N
Point25,xy, , ,in, deg, , ,N, , ,W, grid, , , ,N
Point26,xy, , ,in, deg, , ,N, , ,W, grid, , , ,N
Point27,xy, , ,in, deg, , ,N, , ,W, grid, , , ,N
Point28,xy, , ,in, deg, , ,N, , ,W, grid, , , ,N
Point29,xy, , ,in, deg, , ,N, , ,W, grid, , , ,N
Point30,xy, , ,in, deg, , ,N, , ,W, grid, , , ,N
Projection Setup, 0.000000000, 33.000000000, 1.000000000, 6500000.00, 0.00,,,,,
Map Feature = MF ; Map Comment = MC These follow if they exist
Track File = TF These follow if they exist
Moving Map Parameters = MM? These follow if they exist
MM0,Yes
MMPNUM,4
MMPXY,1,130,299
MMPXY,2,6592,314
MMPXY,3,6595,4687
MMPXY,4,116,4671
MMPLL,1, 30.999806, 11.333321
MMPLL,2, 32.000266, 11.333518
MMPLL,3, 32.000378, 10.666663
MMPLL,4, 30.999539, 10.666908
MM1B,16.900101
Other Grid Setup
GRGRID,Yes,4 Km,No,16711680,255,4 Km,0,16777215,8,0,Yes,Yes,No,x
MOP,Map Open Position,0,0
IWH,Map Image Width/Height,6690,5044
