OziExplorer Map Data File Version 2.2
c31-31
c31-31.jpg
1 ,Map Code,
Pulkovo 1942 (1),WGS 84, 0.0000, 0.0000,WGS 84
Reserved 1
Reserved 2
Magnetic Variation,,,E
Map Projection,Transverse Mercator,PolyCal,No,AutoCalOnly,No,BSBUseWPX,No
Point01,xy, 106, 130,in, deg, 8, 40.0000,N, 0, 0.0000,E, grid, , , ,N
Point02,xy, 3352, 118,in, deg, 8, 40.0000,N, 1, 0.0000,E, grid, , , ,N
Point03,xy, 3362, 2305,in, deg, 8, 0.0000,N, 1, 0.0000,E, grid, , , ,N
Point04,xy, 110, 2317,in, deg, 8, 0.0000,N, 0, 0.0000,E, grid, , , ,N
Point05,xy, 1732, 1221,in, deg, 8, 20.0000,N, 0, 30.0000,E, grid, , , ,N
Point06,xy, 1728, 127,in, deg, 8, 40.0000,N, 0, 30.0000,E, grid, , , ,N
Point07,xy, 108, 1224,in, deg, 8, 20.0000,N, 0, 0.0000,E, grid, , , ,N
Point08,xy, 3357, 1214,in, deg, 8, 20.0000,N, 1, 0.0000,E, grid, , , ,N
Point09,xy, 1735, 2312,in, deg, 8, 0.0000,N, 0, 30.0000,E, grid, , , ,N
Point10,xy, , ,in, deg, , ,N, , ,W, grid, , , ,N
Point11,xy, , ,in, deg, , ,N, , ,W, grid, , , ,N
Point12,xy, , ,in, deg, , ,N, , ,W, grid, , , ,N
Point13,xy, , ,in, deg, , ,N, , ,W, grid, , , ,N
Point14,xy, , ,in, deg, , ,N, , ,W, grid, , , ,N
Point15,xy, , ,in, deg, , ,N, , ,W, grid, , , ,N
Point16,xy, , ,in, deg, , ,N, , ,W, grid, , , ,N
Point17,xy, , ,in, deg, , ,N, , ,W, grid, , , ,N
Point18,xy, , ,in, deg, , ,N, , ,W, grid, , , ,N
Point19,xy, , ,in, deg, , ,N, , ,W, grid, , , ,N
Point20,xy, , ,in, deg, , ,N, , ,W, grid, , , ,N
Point21,xy, , ,in, deg, , ,N, , ,W, grid, , , ,N
Point22,xy, , ,in, deg, , ,N, , ,W, grid, , , ,N
Point23,xy, , ,in, deg, , ,N, , ,W, grid, , , ,N
Point24,xy, , ,in, deg, , ,N, , ,W, grid, , , ,N
Point25,xy, , ,in, deg, , ,N, , ,W, grid, , , ,N
Point26,xy, , ,in, deg, , ,N, , ,W, grid, , , ,N
Point27,xy, , ,in, deg, , ,N, , ,W, grid, , , ,N
Point28,xy, , ,in, deg, , ,N, , ,W, grid, , , ,N
Point29,xy, , ,in, deg, , ,N, , ,W, grid, , , ,N
Point30,xy, , ,in, deg, , ,N, , ,W, grid, , , ,N
Projection Setup, 0.000000000, 3.000000000, 1.000000000, 1500000.00, 0.00,,,,,
Map Feature = MF ; Map Comment = MC These follow if they exist
Track File = TF These follow if they exist
Moving Map Parameters = MM? These follow if they exist
MM0,Yes
MMPNUM,4
MMPXY,1,104,129
MMPXY,2,3353,118
MMPXY,3,3364,2305
MMPXY,4,109,2317
MMPLL,1, -0.000477, 8.667091
MMPLL,2, 1.000378, 8.667241
MMPLL,3, 1.000760, 8.000124
MMPLL,4, -0.000245, 8.000178
MM1B,33.920380
Other Grid Setup
GRGRID,Yes,4 Km,No,16711680,255,4 Km,0,16777215,8,0,Yes,Yes,No,x
MOP,Map Open Position,0,0
IWH,Map Image Width/Height,3474,2544
