OziExplorer Map Data File Version 2.2
c30-36
c30-36.jpg
1 ,Map Code,
Pulkovo 1942 (1),WGS 84, 0.0000, 0.0000,WGS 84
Reserved 1
Reserved 2
Magnetic Variation,,,E
Map Projection,Transverse Mercator,PolyCal,No,AutoCalOnly,No,BSBUseWPX,No
Point01,xy, 102, 107,in, deg, 8, 40.0000,N, 1, 0.0000,W, grid, , , ,N
Point02,xy, 3347, 99,in, deg, 8, 40.0000,N, 0, 0.0000,E, grid, , , ,N
Point03,xy, 3352, 2281,in, deg, 8, 0.0000,N, 0, 0.0000,E, grid, , , ,N
Point04,xy, 101, 2285,in, deg, 8, 0.0000,N, 1, 0.0000,W, grid, , , ,N
Point05,xy, 1726, 1195,in, deg, 8, 20.0000,N, 0, 30.0000,W, grid, , , ,N
Point06,xy, 1723, 104,in, deg, 8, 40.0000,N, 0, 30.0000,W, grid, , , ,N
Point07,xy, 102, 1196,in, deg, 8, 20.0000,N, 1, 0.0000,W, grid, , , ,N
Point08,xy, 3349, 1191,in, deg, 8, 20.0000,N, 0, 0.0000,E, grid, , , ,N
Point09,xy, 1727, 2285,in, deg, 8, 0.0000,N, 0, 30.0000,W, grid, , , ,N
Point10,xy, , ,in, deg, , ,N, , ,W, grid, , , ,N
Point11,xy, , ,in, deg, , ,N, , ,W, grid, , , ,N
Point12,xy, , ,in, deg, , ,N, , ,W, grid, , , ,N
Point13,xy, , ,in, deg, , ,N, , ,W, grid, , , ,N
Point14,xy, , ,in, deg, , ,N, , ,W, grid, , , ,N
Point15,xy, , ,in, deg, , ,N, , ,W, grid, , , ,N
Point16,xy, , ,in, deg, , ,N, , ,W, grid, , , ,N
Point17,xy, , ,in, deg, , ,N, , ,W, grid, , , ,N
Point18,xy, , ,in, deg, , ,N, , ,W, grid, , , ,N
Point19,xy, , ,in, deg, , ,N, , ,W, grid, , , ,N
Point20,xy, , ,in, deg, , ,N, , ,W, grid, , , ,N
Point21,xy, , ,in, deg, , ,N, , ,W, grid, , , ,N
Point22,xy, , ,in, deg, , ,N, , ,W, grid, , , ,N
Point23,xy, , ,in, deg, , ,N, , ,W, grid, , , ,N
Point24,xy, , ,in, deg, , ,N, , ,W, grid, , , ,N
Point25,xy, , ,in, deg, , ,N, , ,W, grid, , , ,N
Point26,xy, , ,in, deg, , ,N, , ,W, grid, , , ,N
Point27,xy, , ,in, deg, , ,N, , ,W, grid, , , ,N
Point28,xy, , ,in, deg, , ,N, , ,W, grid, , , ,N
Point29,xy, , ,in, deg, , ,N, , ,W, grid, , , ,N
Point30,xy, , ,in, deg, , ,N, , ,W, grid, , , ,N
Projection Setup, 0.000000000, -3.000000000, 1.000000000, 60500000.00, 0.00,,,,,
Map Feature = MF ; Map Comment = MC These follow if they exist
Track File = TF These follow if they exist
Moving Map Parameters = MM? These follow if they exist
MM0,Yes
MMPNUM,4
MMPXY,1,101,105
MMPXY,2,3349,98
MMPXY,3,3354,2283
MMPXY,4,101,2287
MMPLL,1, -1.000222, 8.667089
MMPLL,2, 0.000737, 8.667245
MMPLL,3, 0.000603, 7.999410
MMPLL,4, -1.000194, 7.999672
MM1B,33.935730
Other Grid Setup
GRGRID,Yes,4 Km,No,16711680,255,4 Km,0,16777215,8,0,Yes,Yes,No,x
MOP,Map Open Position,0,0
IWH,Map Image Width/Height,3456,2488
