OziExplorer Map Data File Version 2.2
c29-34
c29-34.jpg
1 ,Map Code,
Pulkovo 1942 (1),WGS 84, 0.0000, 0.0000,WGS 84
Reserved 1
Reserved 2
Magnetic Variation,,,E
Map Projection,Transverse Mercator,PolyCal,No,AutoCalOnly,No,BSBUseWPX,No
Point01,xy, 74, 57,in, deg, 8, 40.0000,N, 9, 0.0000,W, grid, , , ,N
Point02,xy, 2231, 70,in, deg, 8, 40.0000,N, 8, 0.0000,W, grid, , , ,N
Point03,xy, 2226, 1528,in, deg, 8, 0.0000,N, 8, 0.0000,W, grid, , , ,N
Point04,xy, 66, 1520,in, deg, 8, 0.0000,N, 9, 0.0000,W, grid, , , ,N
Point05,xy, 1148, 797,in, deg, 8, 20.0000,N, 8, 30.0000,W, grid, , , ,N
Point06,xy, 1152, 65,in, deg, 8, 40.0000,N, 8, 30.0000,W, grid, , , ,N
Point07,xy, 70, 787,in, deg, 8, 20.0000,N, 9, 0.0000,W, grid, , , ,N
Point08,xy, 2229, 803,in, deg, 8, 20.0000,N, 8, 0.0000,W, grid, , , ,N
Point09,xy, 1146, 1525,in, deg, 8, 0.0000,N, 8, 30.0000,W, grid, , , ,N
Point10,xy, , ,in, deg, , ,N, , ,W, grid, , , ,N
Point11,xy, , ,in, deg, , ,N, , ,W, grid, , , ,N
Point12,xy, , ,in, deg, , ,N, , ,W, grid, , , ,N
Point13,xy, , ,in, deg, , ,N, , ,W, grid, , , ,N
Point14,xy, , ,in, deg, , ,N, , ,W, grid, , , ,N
Point15,xy, , ,in, deg, , ,N, , ,W, grid, , , ,N
Point16,xy, , ,in, deg, , ,N, , ,W, grid, , , ,N
Point17,xy, , ,in, deg, , ,N, , ,W, grid, , , ,N
Point18,xy, , ,in, deg, , ,N, , ,W, grid, , , ,N
Point19,xy, , ,in, deg, , ,N, , ,W, grid, , , ,N
Point20,xy, , ,in, deg, , ,N, , ,W, grid, , , ,N
Point21,xy, , ,in, deg, , ,N, , ,W, grid, , , ,N
Point22,xy, , ,in, deg, , ,N, , ,W, grid, , , ,N
Point23,xy, , ,in, deg, , ,N, , ,W, grid, , , ,N
Point24,xy, , ,in, deg, , ,N, , ,W, grid, , , ,N
Point25,xy, , ,in, deg, , ,N, , ,W, grid, , , ,N
Point26,xy, , ,in, deg, , ,N, , ,W, grid, , , ,N
Point27,xy, , ,in, deg, , ,N, , ,W, grid, , , ,N
Point28,xy, , ,in, deg, , ,N, , ,W, grid, , , ,N
Point29,xy, , ,in, deg, , ,N, , ,W, grid, , , ,N
Point30,xy, , ,in, deg, , ,N, , ,W, grid, , , ,N
Projection Setup, 0.000000000, -9.000000000, 1.000000000, 59500000.00, 0.00,,,,,
Map Feature = MF ; Map Comment = MC These follow if they exist
Track File = TF These follow if they exist
Moving Map Parameters = MM? These follow if they exist
MM0,Yes
MMPNUM,4
MMPXY,1,73,56
MMPXY,2,2232,69
MMPXY,3,2228,1530
MMPXY,4,65,1521
MMPLL,1, -9.000410, 8.667647
MMPLL,2, -7.999399, 8.667292
MMPLL,3, -7.999165, 8.000386
MMPLL,4, -9.000323, 7.998804
MM1B,51.008495
Other Grid Setup
GRGRID,Yes,4 Km,No,16711680,255,4 Km,0,16777215,8,0,Yes,Yes,No,x
MOP,Map Open Position,0,0
IWH,Map Image Width/Height,2304,1664
