OziExplorer Map Data File Version 2.2
b38-36
b38-36.jpg
1 ,Map Code,
Pulkovo 1942 (1),WGS 84, 0.0000, 0.0000,WGS 84
Reserved 1
Reserved 2
Magnetic Variation,,,E
Map Projection,Transverse Mercator,PolyCal,No,AutoCalOnly,No,BSBUseWPX,No
Point01,xy, 75, 125,in, deg, 4, 40.0000,N, 47, 0.0000,E, grid, , , ,N
Point02,xy, 2920, 116,in, deg, 4, 40.0000,N, 48, 0.0000,E, grid, , , ,N
Point03,xy, 2927, 2018,in, deg, 4, 0.0000,N, 48, 0.0000,E, grid, , , ,N
Point04,xy, 78, 2028,in, deg, 4, 0.0000,N, 47, 0.0000,E, grid, , , ,N
Point05,xy, 1500, 1073,in, deg, 4, 20.0000,N, 47, 30.0000,E, grid, , , ,N
Point06,xy, 1497, 120,in, deg, 4, 40.0000,N, 47, 30.0000,E, grid, , , ,N
Point07,xy, 76, 1077,in, deg, 4, 20.0000,N, 47, 0.0000,E, grid, , , ,N
Point08,xy, 2924, 1067,in, deg, 4, 20.0000,N, 48, 0.0000,E, grid, , , ,N
Point09,xy, 1502, 2024,in, deg, 4, 0.0000,N, 47, 30.0000,E, grid, , , ,N
Point10,xy, , ,in, deg, , ,N, , ,W, grid, , , ,N
Point11,xy, , ,in, deg, , ,N, , ,W, grid, , , ,N
Point12,xy, , ,in, deg, , ,N, , ,W, grid, , , ,N
Point13,xy, , ,in, deg, , ,N, , ,W, grid, , , ,N
Point14,xy, , ,in, deg, , ,N, , ,W, grid, , , ,N
Point15,xy, , ,in, deg, , ,N, , ,W, grid, , , ,N
Point16,xy, , ,in, deg, , ,N, , ,W, grid, , , ,N
Point17,xy, , ,in, deg, , ,N, , ,W, grid, , , ,N
Point18,xy, , ,in, deg, , ,N, , ,W, grid, , , ,N
Point19,xy, , ,in, deg, , ,N, , ,W, grid, , , ,N
Point20,xy, , ,in, deg, , ,N, , ,W, grid, , , ,N
Point21,xy, , ,in, deg, , ,N, , ,W, grid, , , ,N
Point22,xy, , ,in, deg, , ,N, , ,W, grid, , , ,N
Point23,xy, , ,in, deg, , ,N, , ,W, grid, , , ,N
Point24,xy, , ,in, deg, , ,N, , ,W, grid, , , ,N
Point25,xy, , ,in, deg, , ,N, , ,W, grid, , , ,N
Point26,xy, , ,in, deg, , ,N, , ,W, grid, , , ,N
Point27,xy, , ,in, deg, , ,N, , ,W, grid, , , ,N
Point28,xy, , ,in, deg, , ,N, , ,W, grid, , , ,N
Point29,xy, , ,in, deg, , ,N, , ,W, grid, , , ,N
Point30,xy, , ,in, deg, , ,N, , ,W, grid, , , ,N
Projection Setup, 0.000000000, 45.000000000, 1.000000000, 8500000.00, 0.00,,,,,
Map Feature = MF ; Map Comment = MC These follow if they exist
Track File = TF These follow if they exist
Moving Map Parameters = MM? These follow if they exist
MM0,Yes
MMPNUM,4
MMPXY,1,73,123
MMPXY,2,2922,115
MMPXY,3,2928,2019
MMPXY,4,77,2029
MMPLL,1, 46.999508, 4.667552
MMPLL,2, 48.000537, 4.666712
MMPLL,3, 48.000448, 3.999956
MMPLL,4, 46.999594, 3.999589
MM1B,39.007188
Other Grid Setup
GRGRID,Yes,4 Km,No,16711680,255,4 Km,0,16777215,8,0,Yes,Yes,No,x
MOP,Map Open Position,0,0
IWH,Map Image Width/Height,3000,2218
